Workbook
Name ACCIONES: #REF!
Name CONTROL: #REF!
Name FACTOR: #REF!
Name IMP: [1]TABLAS!$A$12:$A$15
Name NIVEL: #REF!
Name NIVELIMPACTO: #REF!
Name NIVELPRO: #REF!
Name PROBABILIDAD: #REF!
Name PROCESOS: #REF!
Name REMOTA: #REF!
Name VALORRIESGO: #REF!
Name VARPRO: [1]TABLAS!$A$5:$A$8

Sheet FOR-DES-16
C2: SEGUIMIENTO A RIESGOS
M3: CÓDIGO | P3: FOR-DES-16
M5: VERSIÓN | P5: 01
M7: VIGENCIA | P7: OCTUBRE 2020
B10: PROCESO | C10: RIESGO IDENTIFICADO | D10: 2022-I
D11: VALORACIÓN INICIAL DEL RIESGO (Riesgo Inherente) | E11: VALORACIÓN FINAL DEL RIESGO (Riesgo Residual) | F11: #PLAN DE MEJORAMIENTO | G11: SEGUIMIENTO POR CONTROL INTERNO 2022-1 | R11: SEGUIMIENTO POR CONTROL INTERNO 2022-2 | AC11: SEGUIMIENTO DE ENERO A JUNIO DE 2023-1 | AD11: SEGUIMIENTO JULIO A DICIEMBRE DE 2023-2 | BK11: SEGUIMIENTO ENERO A DICIEMBRE 2024
A12: 1 | B12: DIRECCIONAMIENTO ESTRATEGICO | C12: Probabilidad de impacto económico y reputacional por manipulación de estudios previos o de factibilidad y falta de adherencia al manual de contratación debido a la falta de integridad del servidor publico. | D12: ='Matriz de riesgos Inst'!T13 -> ALTO | E12: ALTO | F12: Se cumplió con lo establecido en el plan de mejoramiento para que los controles se mitigaran y evitar la materialización del riesgo | G12: 1. Al seguimiento por Control interno se pudo evidenciar que en los estudios previos la oficna asesora juridíca realizó la verificación de los requisitos contractuales en cada proceso. Igualmente se evidenció que desde la oficina jurídíca se está desarrollando el plan piloto de implementación de la plataforma secop II transaccional, lo que permitirá una mayor transparencia y publicidad en los procesos contractuales.Se contrato un asesor para capacitación en Secop II. 2. Se verificó por control interno que la oficina de comunicaciones socializó a través de los correos de los funcionarios el Código de Conducta y Buen Gobierno. 3. Al seguimiento por Control interno se pudo evidenciar que en los estudios previos la oficna asesora juridíca, realizó la verificacion de los requisitos contractuales en cada proceso. Igualmente se evidenció que desde la oficina juridíca se está desarrollando el plan piloto 1. de implementación de la plataforma secop II transaccional, lo que permitirá una mayor transparencia y publicidad en los procesos contractuales.Se contrato un asesor para capacitación en Secop II. | R12: 1. Se verificó por control interno que con la implementacion del uso de la plataforma Secop II transaccional, se evidenció la intervencion de nuevos oferentes y sus observaciones se tuvieron en cuenta para la mejora contínua del proceso contractual. 2. Se verificó por control interno que la oficina de comunicaciones socializó a través de los correos de los funcionarios el Código de Conducta y Buen Gobierno. 3. En la muestra tomada en la vigencia 2022 por control interno se evidenció que los contratos cuentan con el formato Sarlaft, diligenciado por cada proveedor para dar cumplimiento a los riesgos de corrupción. | AC12: 1.- Se verifica por control interno que cada uno de los procesos contractuales, contienen los estudios previos correspondientes ( en los que aplica), y estos a su vez contienen estudios de mercado realizados a través de la plataforma Secop II. 2.- Se verificò por control interno que en la inducciòn y reinducciòn que se realizò al inicio de la vigencia fiscal 2023 y desde el Proceso de Talento Humano se socializò el Código de Conducta y Buen Gobierno, para fortalecer en los funcionario los principios y valores institucionales. 3.-Al seguimiento por control interno en el primer semestre de 2023 se evidenció que los contratos cuentan con el formato Sarlaft, diligenciado por cada proveedor para dar cumplimiento a los riesgos de corrupción y la verificacion en la UIAF. 4.- Se verificò que se incluyo un nuevo control al riesgo y se establecíó que la plataforma del secop II es administrada por el equipo juridico y solo se han otorgado permisos con restricciones de seguridad a los equipos de los diferentes procesos | AD12: 1.- Se verifica por control interno que en cada uno de los procesos contractuales se cumpliò con los requisitos establecidos en el manual de procedimiento, tales como estudios previos y estudios de mercado y se pueden visualizar en la plataforma del Secop II. durante la vigencia 2023 y conforme a la dinàmica del hospital el comitè de contrataciòn aprobò cambios en el procedimiento que han permitido mayor participaciòn de las àreas involucradads en el proceso de contractual, especialmente en la elaboracion de estudios de mercado, fundamentales para los estudios previos de cada proceso. Igualmete se capacitò al equipo financiero sobre la metodologia para construir indicadores financieros. 2.- Se verificò por control interno que se fortaleciò la socializaciòn del Código de Conducta y Buen Gobierno en la Feria de la Excelencia por Talento humano, dirigida a todos los funcionarios. 3.- En el segundo semestre la revisorìa fiscal, realizò auditorÍa a la contrataciòn en donde se evidenció en muestra tomada que se contaba con los formatos Sarlaft en las carpetas contractuales y la verificación en la UIAF. 4.- Se verificò que se continúan otorgando permisos controlados para acceder a la plataforma Secop II. | BK12: 1.- Se estableció que al realizar la contratación del hospital se cumple con los requisitos legales estalecidos en el Manual y el procedimiento, igualmente la entidad viene desarrollando y aplicando la plataforma del Secop II transaccional, plataforma que puede ser revisada en tiempo real y verificar que todos los requisitos contractuales son publicados. Desde el último semestre de 2023 se aprobaron cambios en el procedimiento que se han venido aplicando en la vigencia 2024 relacionados con la elaboración de estudios de mercado, fundamentales para los estudios previos de cada proceso. 2.- En el segundo semestre de 2024 se fortaleció la adherencia al Código de Conducta y Buen Gobierno, dirigida a todos los funcionarios de la entidad y se realizaron cpacitaciones en contratación relacionadas con el nuevo estatuto de Contratación.
A13: 2 | B13: DIRECCIONAMIENTO ESTRATEGICO | C13: Probabilidad de impacto económico y reputacional por entrega de bienes o servicios que no cumplen con el objeto contractual y que se certifican como recibido a satisfacción debido a la falta de una adecuada supervisión del contrato para recibir los bienes o servicios. | D13: ='Matriz de riesgos Inst'!T15 -> MODERADO | E13: ='Matriz de riesgos Inst'!AJ15 -> MODERADO | F13: Se cumplió con lo establecido en el plan de mejoramiento para que los controles se mitigaran y evitar la materialización del riesgo | G13: En la muestra tomada por control interno de los contratos suscritos en la presente vigencia fiscal, se evidenció que se trámitó por el proveerdor y por la entidad el formato Sarlaft. Se evidenció igualmente la consulta en la base de datos de la UIAF. | R13: 1. Se evidenció por control interno en la muestra tomada de contratos que el 100% cuenta con la designación de un supervisor y/o interventor. Igualmente se evidenció que dependiendo del tipo de contrato, asi mismo los supervisores o interventores presentan los informes de ejecución. Los informes se pueden visualizar en el contrato electrónico. Es importante anotar que es responsabilidad de cada uno de los supervisores entregar los avances correspondientes y publicarlos en el contrato electrónico. 2.Se estableció con control interno que al terminar la vigencia 2022 se realizaron las capacitaciones dirigidas a supervisores, interventores, líderes, auxiliares y técnicos que intervienen en el proceso de contratación. Se verificaron las listas de asistencia y se cumplió en un 100%. 3. En la muestra tomada por control interno de los contratos suscritos en la presente vigencia fiscal, se evidenció que se trámita por el proveerdor y por la entidad el formato Sarlaft. Se evidenció igualmente la consulta en la base de datos de la UIAF. | AC13: 1.- Se evidencia que todos los contratos cuentan con un supervisor quien es el que certifica la entrega a satisfacción de los bienes o servicios contratados. Lo descrito es certificado en la plataforma Secop II para el primer semestre de 2023. 2.- Se verifica por control interno que se trabajo en identificar un nuevo control al riesgo y a este se le harà seguimiento en el segundo semestre de 2023. 3.- Se establece por control interno que el cronograma de capacitaciones debio ser pospuesto en razon a que actualmente, se desarrolla la auditoria integral de la contraloria dptal. No obstante se verifica que se presta apoyo a todos los supervisores y funcionarios de apoyo que lo requieran para el desarrollo de la supervisión. Igualmente al tomar muestra de los contratos se estableció que estos cuentan con los informes de supervisión. También se observa que desde la oficina jurídica se requirió a los supervisores para que allegaran los informes correspondientes . | AD13: 1.- Se evidencia que todos los contratos cuentan con un supervisor quien es el que certifica la entrega a satisfacción de los bienes o servicios contratados. Lo descrito es certificado en la plataforma Secop II para el segundo semestre de 2023. 2.- Se verifica por control interno que en el segundo semestre de 2023, se capacitaron a los supervisores en el diligenciamiento y construcciòn de los informes de ejecuciòn y actas de recibo a satisfacciòn. 3.- Se establece que se realizarón capacitaciones en el segundo semestre, a supervisores y auxiliares y tècnicos que intervienen en el proceso contractual. | BK13: 1.- Al seguimiento por control interno se tomo una muestra de los contratos que se han ejecutaron en la vigencia 2024 en donde se estableció que los contratos cuentan con el supervisor y estos entregan los informes de manera regular y a su vez son subidos a la plataforma de Secop II transaccional. 2.- En el primer semestre de 2024 no se capacitaron a los supervisores, auxiliares y técnicos y en el segundo semestre se realizo capacitacion en contratación relacionada con el nuevo estatuto de Contratación dirigida a los principales intervinientes del proceso contractual de la entidad.
A14: 3 | B14: DIRECCIONAMIENTO ESTRATEGICO | C14: Probabilidad de impacto económico y reputacional debido a la omisiòn del debido proceso y el incumplimiento en el trámites de las etapas procesales, Ajustado | D14: ='Matriz de riesgos Inst'!T16 -> ALTO | E14: ='Matriz de riesgos Inst'!AJ16 -> MODERADO | F14: Los riesgos fueron identificados en la vigencia 2022 y se han ajustado de acuerdo a la normativa y procedimiento | G14: Se verificó por control interno que se realizó seguimiento a los procesos a través de una herramienta para presentar el estado actual de los procesos. | R14: Al finalizar el 2022 se evidenció que se implementó una herramienta electrónica en donde se desarrollará en la vigencia 2023 para realizar el seguimiento a los procesos. Igualmente se verificó que al finalizar la vigencia 2022, se evidenciaron: 16 procesos para realizar auto de pliego de cargos, 11 procesos para estudio de caso y definir situación, 2 procesos para indagación preliminar, 3 procesos en práctica de pruebas, 2 procesos cerrados, 3 procesos para auto de apertura, 1 proceso para auto de acumulación. | AC14: Se evidencia la implementaciòn de una herramienta que sirve para realizar el seguimiento y control de los tèrminos de los procesos a cargo de la oficina de control disciplinario. Se verificò en el primer semestre que se realizó informe de gestión con corte a 30 de junio de 2023: se evidencian 78 procesos disciplinarios, en los siguientes estados: prescritos 11, caducados 1, pendiente de archivo 1, procesos proximos a prescibir 3, activos 27 y aperturados 35. Frente a los procesos prescritos y caducados se darà apertura a proceso disciplinario si hay lugar. Se incluyo nuevo control ver FOR-DES-14 y se le hara seguimiento en el segundo semestre de 2023 | AD14: 1. Al seguimiento en el segundo semestre de 2023 se continúa actualizando la herramienta que sirve para realizar el seguimiento y control de los tèrminos de los procesos a cargo de la oficina de control disciplinario, en donde se verificò que en el segundo semestre existen :80 procesos disciplinarios en los siguientes estados: prescritos 3, con resolución de archivo 22, procesos proximos a prescibir 5, activos 50 y en el segundo semestre 12 procesos aperturados . Frente a los procesos prescritos y caducados se dió apertura a proceso disciplinario. 2. Control interno verifico que el asesor de control interno disciplinario realizò seguimiento a todos los procesos a cargo de la oficina, verificando que al finalizar el segundo semestre de 2023, los procesos avanzan de acuerdo a las etapas procesales establecidas por lanborma sin dar lugar a vencimiento de tèrminos y vulneraciones de derechos procesales. | AE14: Al seguimiento por control interno se estableció que en la vigencia 2024 se trabajó utilizando la herramienta en excell, en donde se tiene el control de todos los procesos y su estado en donde se adelanta la fase de instrucción. Igualmente se verificó que al terminar la vigencia se cuenta con: 56 procesos, 40 están activos, 12 fueron archivados, se aperturaron 16 procesos, se trasladaron 4 para juzgamiento y hubo un traslado a la Procuraduría por competencia.
A15: 4 | B15: DIRECCIONAMIENTO ESTRATEGICO | C15: Probabilidad de impacto económico y reputacional por conducta deshonesta que utilice la influencia de manera personal para dar preferencias o favorecimientos en la dosificaciòn de una posible sanciòn disciplinaria o archivo del expediente | D15: ALTO | E15: ALTO | F15: Los riesgos fueron identificados en la vigencia 2022 y se han ajustado de acuerdo a la normativa y procedimiento | G15: Se verificó por control interno que La Oficina Asesora de Planeaciòn definió las estratégias para mejorar la adherencia de la politica Anticorrupciòn para los funcionarios de la entidad, proveedores y contratistas y se verificó que desde el proceso de Talento Humano, se planificaron las jornadas de inducciòn y reinducciòn donde se socializó el Codigo de Integridad y el Código de Conducta y Buen Gobierno, en donde el asesor de control interno disciplinario asistió. | R15: Al finalizar la vigencia fiscal se verificó que el riesgo no se materializó y se evidenció que hubo aherencia a la política anticorrupción y a los códigos de integridad y de conducta. | AC15: Al hacer seguimiento al control se evidencio el estado de los procesos y se estan ejecutando conforme a las fases y carga procesal del despacho. Al riesgo se le identificò un nuevo control y se le harà segumiento en el segundo trimestre de 2023 | AD15: 1. Se verifica por control interno que en la vigencia 2023 el asesor de control interno disciplinario, asistiò a las capacitaciones planificadas por talento humano y relacionadas con el Còdigo de Conducta y Buen Gobierno y de Integridad y se realizò en la feria de la excelencia en el segundo semestre de 2023. La capacitacion del còdigo de intergidad estuvo a cargo de la oficina de talento humano y la socializaciòn del còdigo de conducta y buen gobierno estuvo a cargo de la ofiina asesora de planeaciòn. 2.Se verifica que el asesor de control disciplinario realizò encuesta de mediciòn anticorrupciòn para establecer que se esten cumpliendo con las normas anticorrupciòn. | BK15: 1. Al seguimiento se establecio que el asesor de control interno disciplinario asisitió a la capacitacion "Manejo del Lenguaje no Violento" planeada desde Talento humano y establecidas en el PIC para la vigencia 2024. Se realizó la feria de la excelencia para el segundo semestre de 2024 en donde se reforzó la adherencia al código de conducta y buen gobierno. 2.Se verificó que el asesor de control disciplinario realizò encuesta de mediciòn anticorrupciòn en el primer semestre de la vigencia.
A16: 5 | B16: DIRECCIONAMIENTO ESTRATEGICO | C16: Probabilidad de impacto reputacional por pérdida de expediente, debido a la falta de controles en la custodia del archivo | D16: ='Matriz de riesgos Inst'!T18 -> ALTO | E16: ='Matriz de riesgos Inst'!AJ18 -> MODERADO | F16: Los riesgos fueron identificados en la vigencia 2022 y se han ajustado de acuerdo a la normativa y procedimiento | G16: Control interno verificó que se cuenta con un libro radicador en donde se visualizan todos los procesos que se han iniciado por vigencias, teniendo un control en el inventario de los expedientes. Se verificó igualmente que se dará inició en la vigencia 2023 con la digitalizacion de los expedientes. | R16: Al seguimiento por control interno se estableció que para la vigencia 2023 se cambió la herramienta para llevar el control de los expedientes y al inicio de la vigencia 2023 se iniciará con la digitalización de los expedientes. | AC16: Se evidencia que se cuenta con una matriz consolidada de datos de los expedientes en donde estan relacionados e identificados y sus estados Al riesgo se le identifico un nuevo control y se le hara seguimiuento en el segundo semestre de 2023 | AD16: 1. Al seguimiento se evidenciò que se tiene el control de todos los expedientes por cuanto se le realiza seguimiento en la herramienta controloda de manera electrònica y se evidencia que los expedientes estàn archivados debidamente. 2. En el segundo semestre de 2023 se realizò Backup a la informaciòn que se tiene digital, garantizando la custodia de la misma. | BK16: 1. Se verifica que se continua realizando el seguimiento de todos los expedientes a través de la herramienta controloda de manera electrònica y se verificó que los expedientes estàn archivados debidamente.
A17: 6 | B17: DIRECCIONAMIENTO ESTRATEGICO | C17: Probabilidad de impacto económico y reputacional por sanciones de los entes de control atribuibles al proceso de contratación debido a que la capacitación dirigida a los funcionarios sobre el proceso contractual no es eficaz. | D17: ='Matriz de riesgos Inst'!T19 -> BAJO | E17: ='Matriz de riesgos Inst'!AJ19 -> BAJO | F17: Se cumplió con lo establecido en el plan de mejoramiento para que los controles se mitigaran y evitar la materialización del riesgo | G17: Se verificó por control interno que la oficina asesora jurídica realizaó capacitaciones dirigida a los líderes y supervisores de contrato en el desarrollo y aplicación del SECOP II. Se evidencia que se contrato los servicios de un profesional en Secop II. | R17: Al finalizar la vigencia, se evidenció que se contó con el apoyo de un asesor en el uso de la plataforma Secop II, quien capacitó a todos los lideres, supervisores, técnicos y auxiliares que intervienen en el proceso de contratación. Se cumplio en un 100% el desarrollo del control. | AC17: Se establece por control interno que el cronograma de capacitaciones debió ser pospuesto en razón a que actualmente, se desarrolla la auditoría integral de la Contraloría Dptal. No obstante se verifica que se presta apoyo a todos los supervisores y funcionarios de apoyo que lo requieran para el desarrollo de la supervisión. Igualmente al tomar muestra de los contratos se estableció que estos cuentan con los informes de supervisión. También se observa que desde la oficina jurídica se requirió a los supervisores para que allegaran los informes correspondientes . | AD17: Se evidencia que en el segundo semestre se realizaron capacitaciones a los supervisores, auxiliares y tècnicos sobre el proceso contractual y se evidencia en los registros de asistencia. | BK17: Se establece que las capacitaciones a los supervisores, auxiliares y técnicos sobre el proceso contractual se realizó de acuerdo al plan de trabajo del proceso jurídico establecido para la vigencia 2024.
A18: 7 | B18: DIRECCIONAMIENTO ESTRATEGICO | C18: Probabilidad de impacto reputacional por poca disponibilidad de la información y fallas en la metodología para la formulación del Plan de Desarrollo debido a la baja participación del personal | D18: ='Matriz de riesgos Inst'!T20 -> BAJO | E18: ='Matriz de riesgos Inst'!AJ20 -> BAJO | F18: Se cumplió con lo establecido en el plan de mejoramiento para que los controles se mitigaran y evitar la materialización del riesgo | G18: Se verificó por parte de Control interno que se aplica la metodología establecida en el procedimiento PRO-DES 01 Plan Estratégico Institucional, para la elaboración, aprobación, divulgación, ejecución y seguimiento del plan de desarrollo institucional, documento que se encuentra publicado en la plataforma documental de la entidad. | R18: Al finalizar la vigencia 2022, se observó que se realizó la revisión anual de la Plataforma estratégica, mediante un ejercicio denominado revisión por la dirección, en donde se revisa la plataforma estratégica, el cual se encuentra gestionada en: la carpeta compartida del Sistema Integrado de Gestión. Igualmente se realizaron 4 seguimientos trimestrales al cumplimiento del POA institucional, los cuales fueron presentados en comité de gerencia y socializados a la junta dirtectiva. Se evidencian actas del comité de gerencia y actas de junta directiva. | AC18: Control interno evidenciò que en el primer semestre de 2023 se han presentado informes periòdicos a la alta direcciòn y a la junta directiva sobre los avances al plan de desarrollo institucional del HDPUV. Adicionalmente la entidad conserva la acreditaciòn y la certificaciòn en sistemas integrados de gestiòn distinciòn otorgada por el Icontec. En el primer semestre se prepara la entidad para recibir visitas de seguimiento por el ente acreditador. Igualmente se evidenciò que se realizò socializaciòn de los avances mediante piezas gràficas dirigidas a los grupos de interès del hospital. | AD18: Control interno evidenciò que en el segundo semestre de 2023 se han presentado informes periòdicos a la alta direcciòn y a la junta directiva sobre los avances al plan de desarrollo institucional del HDPUV. Adicionalmente la entidad conserva la acreditaciòn y la certificaciòn en sistemas integrados de gestiòn distinciòn otorgada por el Icontec. En el segundo semestre del año 2023 se recibio la visita del Icontec para la recertificacion de los sistemas integrados de gestion, la cual fue lograda satisfactoriamente por la entidad. | BK18: Control interno evidenciò que en la vigencia 2024 se construyó y se presentó el Plan de Desarrollo para la vigencia 2024-2028. Se han venido revisando los avances del plan en el comité de gerencia y también se realizó seguimiento a los avances del POAI. El HDPUV conserva la Certificación en los Sistemas de Gestión de Calidad bajo la NTC ISO 9001:2015, Sistema de Gestión Ambiental bajo la NTC ISO 14001:2015 y el Sistema de Gestión de la Seguridad y Salud en el Trabajo bajo la NTC ISO 45001:2018. Como resultado de la visita de renovación del ciclo de acreditación realizada en el mes de mayo de 2024, se recibe el informe por parte del ente acreditador ICONTEC en el segundo semestre de 2024, en el que aprueban mantener la certificación como entidad acreditada en salud por 4 años mas, evidenciando la mejora continua en nuestros procesos y continuar prestando servicios en salud mental con altos estándares de calidad para la poblacion del valle del cauca y el suroccidente Colombiano.
A19: 8 | B19: DIRECCIONAMIENTO ESTRATEGICO -SICOF | C19: Posibilidad de impacto economico y reputacional por adquirir bienes innecesarios, para favorecimiento propio o de un tercero y que no cumplen con las especificaciones técnicas establecidas en el contrato y la necesidad del servicio y no fueron incluias en el plan anual de adquisiciones | D19: ALTO | E19: ALTO | F19: Se cumplió con lo establecido en el plan de mejoramiento para que los controles se mitigaran y evitar la materialización del riesgo | G19: El riesgo fue identificado en el segundo semestre de 2023. | R19: Se verificò por control interno que se realiza el comité de compras, y èstas son analizadas de acuerdo al plan anual de adquisiciones . | AC19: Se vetrificò por control interno que el asesor de planeaciòn es el responsable de reportar en el plan anual de adquisiuciones todas las solicitudes para la adquisiciòn de bienes en cada vigencia y èsta debe ser consultada previamente con la alta direcciòn para la respectiva aprobaciòn de adquisiciòn cuando se vaya a realizar la compra y queda en actas del comité de compras. | AD19: Se vetrificò por control interno que el asesor de planeaciòn es el responsable de reportar en el plan anual de adquisiuciones todas las solicitudes para la adquisiciòn de bienes en cada vigencia, se realizaron en la vigencia 2023 los diferentes ajustes solicitados por los reponsables de procesos y se realizo el respectivo trámite en el portal del SECOP II, previa aprobación de la Subgerencia Administrativa y Financiera y la Gerencia. | BK19: Al seguimiento se estableció que se presentó ante la alta dirección el plan anual de adquisiciones para la vigencia 2024, en donde se realizaron los ajustes solicitados por los lideres de proceso en la vigencia 2024, todos estos ajustes requirieron la aprobacion de la subgerencia administrativa y se realizó el trámite en la plataforma del Secop II transaccional.
A20: 9 | B20: DIRECCIONAMIENTO ESTRATEGICO | C20: Probabilidad de impacto operacional por falta de reporte oportuno de los avances de los planes operativos de los procesos y seguimiento inadecuado a la ejecución del Plan de Desarrollo y al Plan Operativo Anual debido a falta de adherencia al procedimiento y al diligenciamiento de la Matrïz de seguimiento al Plan Operativo Anual | D20: ='Matriz de riesgos Inst'!T21 -> BAJO | E20: ='Matriz de riesgos Inst'!AJ21 -> BAJO | F20: Se cumplió con lo establecido en el plan de mejoramiento para que los controles se mitigaran y evitar la materialización del riesgo | G20: Se verificó por control interno que se presentó en el Comité de gerencia los avances al POA y el seguimiento de las metas del Plan de Desarrollo. Se evidenció el seguimiento en el formato FOR-DES-02 y socializado en Acta de Comité de Gerencia. | R20: Al finalizar la vigencia fiscal 2022, se observó que se realizaron trimestralmente los seguimientos al POA en el formato FOR-DES-02, el análisis del seguimiento fue presentado a la alta dirección en el Comité de Gerencia. ( se evidencian actas). Igualmente en el Comité de gerencia cada uno de los líderes de proceso, sustenta los resultados de los seguimientos realizados. Se evidenció un resultado del 94.9% | AC20: Se evidencia que en el primer semestre de 2023 se han realizado dos seguimientos al plan operativo y se presentaron los resultados ante el comitè de gerencia. Igualmente se socializaron en piezas gràficas a los grupos de interès de la entidad y responsables de los procesos. El indicador de avance para el primer trimestre del POA fue del 38% sobre la meta establecida del 25% y en el segundo trimestre se logro un cumplimiento del 57% sobre la meta propuesta del 45%. | AD20: Se evidenció que en el segundo semestre de 2023 se realizaron dos seguimientos al plan operativo y se presentaron los resultados ante el comitè de gerencia. Igualmente se socializaron en piezas gràficas a los grupos de interès de la entidad y responsables de los procesos. El indicador de avance para el tercer trimestre trimestre del POA fue del 78% sobre la meta establecida del 67,5% y en el cuarto trimestre se logró un cumplimiento del 95% sobre la meta propuesta del 90%. | BK20: Se evidenció por el asesor de control interno que en la vigencia de 2024 se realizó el seguimiento al plan operativo el cual logró un avance del 96% en la vigencia fiscal y fue presentado ante el comitè de gerencia.
A21: 10 | B21: DIRECCIONAMIENTO ESTRATEGICO SICOF | C21: Probabilidad de impacto economico y reputacional por incumplimiento de la normatividad vigente relacionada con la supervisión de los contratos, para favorecimiento del cliente interno o externo. | D21: ALTO | E21: ALTO | F21: Se observa que se ha venido cumpliendo con el plan de mejoramiento desarrollando los controles inherentes al riesgo. | G21: El riesgo fue identificado en el segundo semestre de 2023. | R21: Se evidencia por control interno que desde el área juridica se han realizado las capacitaciones a funcionarios y a supervisores de contrato para que implementen la pltaforma Secop II. Al realizar el seguimietno de la plataforma Sep II se observa que se puso en marcha la plataforma del secop II en donde los supervisores del contrato son los responsables de reportar en esta plataforma todos los documentos que se generen en el desarrollo del contrato, documentos que se pueden verificar en la plataforma del Secop II, junto con los demás formatos estandarizados que hacen parte de la carpeta contractual. | AC21: 1. Al seguimiento por control interno se evidenciò que los informes de supervisiòn No son reportados a tiempo en la plataforma del Secop II y al revisar las carpetas contractuales no todas contienen los informes de supervisiòn. 2. Se verifico que para el segundo semestre de 2023, desde el área jurídica se tienen programadas capacitaciones a todos los supervisores de contrato relacionadas con las obligaciones y responsabilidades inherentes a las supervisiones de contrato y al manejo de la plataforma Secop II, y evitar posibles sanciones por los entes de control. Nuevo control | AD21: 1. Al seguimiento por control interno se evidenciò que se requirieron a los supervisores de contrato los informes de supervisiòn. 2. Se evidencia que en el segundo semestre se realizaron capacitaciones a los supervisores, auxiliares y tècnicos sobre el proceso contractual y manejo de la plataforma Secop II y se evidencia en los registros de asistencia. Nuevo control | BK21: 1. Se verificó en la muestra tomada y revisada por control interno de los contratos ejecutados en la vigencia 2024 que los supervisores de contrato realizaron los informes y estos se pueden verificar en la plataforma del Secop II. Nuevo control
A22: 11 | B22: MERCADEO Y COMUNICACIONES | C22: Posibilidad de impacto reputacional, por desinformación en la comunidad hospitalaria, debido al uso e interpretación inadecuada de la información sobre la institución | D22: ='Matriz de riesgos Inst'!T22 -> MODERADO | E22: ='Matriz de riesgos Inst'!AJ22 -> MODERADO | F22: Se cumplió con lo establecido en el plan de mejoramiento para que los controles se mitigaran y evitar la materialización del riesgo | G22: Se evidencia que los profesionales del Proceso de Mercadeo y comunicaciones, realizan las publicaciones oportunas de la información institucional con base en las solicitudes hechas por los demás procesos o eventos generados en los diferentes canales de comunicación de la institución.Se verifican los canales informativos de la entidad. | R22: Se evidenció que se ejecutó el plan anual de comunicaciones, que fue aprobado por el jefe asesor de la oficina de planeación para el 2022, el plan fue cumplido en un 100%. De igual manera se evidenció que la matríz de comunicaciones se ejecutó en un 100% y en ella quedó registrado el seguimiento mensual, de las actividades proyectadas para la vigencia 2022, la cual desarrolló todas las estrategias adheridas a los ejes de acreditación en salud. | AC22: 1. Se evidencia por control interno que fue se aprobado el plan anual de comunicaciones, por parte del jefe asesor de la oficina de planeaciòn, el cual a la fecha se evidencia una ejecuciòn del 65%.. Igualmente el plan fue socializado a los lideres de proceso a traves de un comunicado en el cual se informò la aprobaciòn del plan y posteriormente se publicò en la plataforma documental, para su consulta de manera permanente. Igualmente se evidenciò que de manera mensual la profesional de comunicaciones enviò el seguimiento de las actividades proyectadas desde la matriz de comunicaciones, a la oficina de planeaciòn y calidad. 2. Se identificò un nuevo control seguimiento en el segundo semestre de 2023. Nuevo control | AD22: 1. Se realizó seguimiento al nuevo control en donde se evidenció por control interno que en el segundo semestre de 2023 el proceso de mercadeo y comunicaciones desarrollo el plan de trabajo mensual en el cual previa a cada publicaciòn se reune con los lideres y responsables de proceso para solicitar la informaciòn de la pieza comunicativa y despuès de elaborada se pasa para su aprobación. 2- Al finalizar la vigencia se observò que el plan anual de comunicaciones se cumpliò en un 98%. 3.- De igual manera se evidenciò que de manera mensual la profesional de comunicaciones enviò el seguimiento de las actividades proyectadas desde la matriz de comunicaciones, a la oficina de planeaciòn y calidad. | BK22: 1. Se verifica que el proceso de mercadeo y comunicaciones viene realizando el seguimiento al nuevo control. Se realizò la oferta publica para la contrataciòn del proveedor para el mantenimiento y soporte del portal web de la entidad. Se evidenció que en la vigencia 2024 se ajustó y actualizó la informaciòn del menú transparencia y acceso a la informaciòn pùblica ITA, con la actualizaciòn de los documentos e informes establecidos por la ley 1712 de 2014 y la Resoluciòn 1519 de 2020. Igualmente se evidenciò que se cumplió con lo proyectado en la matrtìz de comunicaciones.
A23: 12 | B23: MERCADEO Y COMUNICACIONES | C23: Posibilidad de impacto económico y reputacional debido a la vulneración de la imagen institucional por el desconocimiento por parte del público interno o externo sobre la existencia del manual de uso adecuado de la identidad institucional | D23: BAJO | E23: ='Matriz de riesgos Inst'!AJ23 -> BAJO | F23: Se cumplió con lo establecido en el plan de mejoramiento para que los controles se mitigaran y evitar la materialización del riesgo | G23: Se verificó que la Profesional del Proceso de Mercadeo y Comunicaciones, actualizó y socializó el Manual de Imagen Institucional publicado en la plataforma documental y la intranet institucional. | R23: Se evidenció que la profesional de comunicaciones socializó a través de los canales internos de comunicación, tales como: la intranet, plataforma documental, correo electrónico y en el día de la calidad, el Manual de identidad corporativa, en donde se hizo enfásis en el uso correcto del Isotipo y los colores corporativos. Al día de la calidad asistíeron 125 clientes internos. Igualmente se observó que frente al cliente externo la socialización del Manual de Identidad corporativa se envió através del correo electrónico. | AC23: Se verificó por control interno que la profesional de comunicaciones envió a través del correo electrónico el Manual de identidad corporativa para socializarlo frente al cliente externo. Para el segundo semestre de 2023 en la feria de la excelencia se espera socializar y hacer énfasis en el uso correcto del isotipo y colores corporativos. | AD23: Se evidenciò por Control Interno que en el segundo semestre de 2023 la profesional de comunicaciones socializò el Manual de Identidad Corporativo a toda la comunidad hospitalaria asistente a la feria de la excelencia, con una participaciòn de 335 personas tanto internas como externas. | BK23: Se evidenciò que en la vigencia 2024 el plan estratègico de comunicaciones se ejecutó segùn lo establecido para la vigencia, con un porcentaje del 95%. Se sociaalizó el manual de identidad corporativa en el segundo semestre de 2024 en la feria de la excelencia.
A24: 13 | B24: MERCADEO Y COMUNICACIONES | C24: Posibilidad de impacto operacional por falta de oportunidad en la entrega de productos solicitados por las diferentes áreas al Proceso de Mercadeo y Comunicaciones debido a la acumulación de solicitudes que remiten a comunicaciones con necesidades inmediatas | D24: ='Matriz de riesgos Inst'!T24 -> MODERADO | E24: ='Matriz de riesgos Inst'!AJ24 -> BAJO | F24: Se cumplió con lo establecido en el plan de mejoramiento para que los controles se mitigaran y evitar la materialización del riesgo | G24: Se verificó que la Profesional del Proceso de Mercadeo y Comunicaciones, diseñó una estrategia de comunicaciones para la promoción efectiva del formato de solicitudes a comunicaciones a todo el personal de la institución | R24: Al finalizar la vigencia 2022 se socializó el uso del formato de solicitudes a comunicaciones, a través de la campaña presencial dia de la calidad y en diferentes canales de comunicación interno, como la intranet, la plataforma documental y los grupos de whapsapp. La socialización llegó a 125 funcionarios de la entidad, y a los otros canales se llegó en un 100%. | AC24: Se evidencio que la profesional de comunicaciones, informo a toda la comunidad hospitalaria a través de los medios digitales el uso del formato de solicitudes a comunicaciones con el fin de planear y entregar oportunamente los productos comunicacionales, solicitados por los procesos. | AD24: Se evidenciò por control interno que las solicitudes enviadas por parte de los procersos, las realizaron a travès del formato de solicitudes a comunicaciones y en la vigencia 2023 realizaron un total de 178 solicitudes. | BK24: Se evidenciò por control interno que las solicitudes enviadas por parte de los procesos, las realizaron a travès del formato de solicitudes a comunicaciones y en la vigencia 2024 fueron 132 a las cuales se les dio trámite en un 100%
A25: 14 | B25: GESTION TALENTO HUMANO | C25: Posibilidad de Pérdida económica y reputacional por la vinculación de personal para proveer empleos temporales a discreción de la administración, con incumplimiento del pérfil y los requisitos legales e institucionales establecidos para los empleos de la planta de cargos de la entidad. | D25: ='Matriz de riesgos Inst'!T26 -> BAJO | E25: ='Matriz de riesgos Inst'!AJ26 -> BAJO | F25: Se cumplió con lo establecido en el plan de mejoramiento para que los controles se mitigaran y evitar la materialización del riesgo | G25: 1. Control interno verificó que al tomar una muestra del personal vinculado a la entidad durante el primer semestre de 2022, se está dando cumplimiento a los requisitos establecidos desde el manual especifico de funciones, verificando la lista de chequeo de requisitos de ingreso al cual se ha dado un cumplimiento del 100% de los ingresos en el primer semestre de 2022. 2. Se verificó que la lista de chequeo de requisitos de ingreso, se encuentra ajustada a los requisitos de ingreso establecidos en el manual de funciones para los empleso de planta. Esta se modificará una vez se ajuste o se adopte un nuevo manual de funciones. | R25: 1. En el segundo semestre de 2022 se evidenció que se continuó fortaleciendo el control establecido para los ingresos a los empleos de la planta de cargos, dando cumplimento a los requisitos legales e institucionales establecidos desde el formato "Requisitos de Ingreso para vinculación, empleos de Planta de Cargos" FOR-GTH-22. y los requisitos establecidos en el Manual de funciones. Al finalizar la vigencia se observa que no hubo materialización del riesgo. El Profesional Universitario (función pública) documenta, actualiza, para su aplicación el procedimiento Ingreso de Personal (PRO-GTH-01.), en cumplimiento de la normatividad del sector. 2. Se verificó que la lista de chequeo de requisitos de ingreso, se encuentra ajustada a los requisitos de ingreso establecidos en el manual de funciones para los empleso de planta. Esta se modificará una vez se ajuste o se adopte un nuevo manual de funciones. Al finalizar la vigencia se presentó ante la Junta Directiva el proyecto y estudio técnico de la modificación manual de funciones y la planta de empleos, a la fecha se encuentra para su aprobación. | AC25: Se observa por control interno que en el primer semestre de 2023 se continuó fortaleciendo los controles establecidos para los ingresos a los empleos de la planta de cargos, en cumplimiento de lo establecido en la norma y los institucionales. Se verificò que el control se està desarrollando y el riesgo residual continùa bajo y se verificó que se aplica la lista de chequeo de requisitos al ingreso del personal y èsta reposa en la història laboral del funcionario. Los empleos que fueron reportados ante la Comisiòn Nacional del Servicio Civil, dan cumplimiento al Acuerdo de Junta Directiva Nro 008 de abril 30 de 2018 y al Acuerdo Nro. 023 de octubre 28 de 2022. | AD25: Durante el II semestre de la vigencia 2023, se da continuidad al fortalecimiento de los controles que desde la planeación del recurso humano se tienen implementados, para el procedimiento de vinculación de personal. Durante el II semestre de la vigencia no se presentaron ingresos a la planta de cargos de la entidad. Las contingencias y tiempos no laborados se les dió cobertura mediante personal de la empresa de servicio temporal, sin embargo este personal da cumplimiento a la totalidad de requisitos legales e institucionales establecidos. | BK25: Durante la vigencia 2024, se fortalecieron los controles que desde la planeación del recurso humano se tienen implementados, para el procedimiento de vinculación de personal. Para las contingencias y tiempos no laborados se les dió cobertura mediante personal de la empresa de servicio temporal, sin embargo este personal da cumplimiento a la totalidad de requisitos legales e institucionales establecidos. Al terminar la vigencia 2024, el indice de rotación de personal está por debajo de la meta en -0,85. Se presentaron doce (12) retiros y se presentaron (3) provisiónes de empleo. Se evidencia por control interno que el proceso de Gestión de Talento Humano, cuenta con el procedimiento documentado de Ingreso de Personal (PRO-GTH-01), dispuesto en plataforma documental. Igualmente se verificó que los funcionarios cuentan con los actos administrativos, los cuales reposan en história laboral. Estos actos administrativos son validados por la Líder de Programa de Gestión de Talento Humano, La Jefe de Oficina Asesora de Jurídico y finalmente deben ser firmados por la Gerente. Mensualmente el auxiliar administrativo realiza el reporte de novedades a nómina
A26: 15 | B26: GESTION TALENTO HUMANO | C26: Posibilidad de Pérdida económica y operacional por sanciones de los entes de control o manifestaciones por insatisfacción de las partes interesadas debido al incumplimiento en la presentación de informes, requerimientos y solicitudes en los términos de ley. | D26: ='Matriz de riesgos Inst'!T29 -> BAJO | E26: ='Matriz de riesgos Inst'!AJ29 -> BAJO | F26: Se cumplió con lo establecido en el plan de mejoramiento para que los controles se mitigaran y evitar la materialización del riesgo | G26: 1. Se evidenció que a la fecha del seguimiento se ha dado cumplimiento a la presentación y requerimiento de los informes establecidos por las diferentes entidades que lo solicitan. 2.Se verificó que en el área de talento humano se tienen establecidos los responsables a la hora de rendir informes de ley y los informes rendidos a la fecha han sido oportunos. 3.Se vertificó que los funcionarios responsables en Talento Humano han dado cumplimiento en el primer semestre de 2022 a todos los informes que se deben presentar ante las diferentes entidades que lo solicitan | R26: 1. Se evidenció que al finalizar la vigencia 2022 se dió cumplimiento a la presentación y requerimiento de los diferentes informes establecidos por las entidades que lo solicitan. . 2. Se estableció que en el área de talento humano se tienen identificados los responsables de rendir los informes y se evidenció que fueron de manera oportuna. 3. Se evidenció que los funcionarios responsables en Talento Humano dieron cumplimiento en el segundo semestre de 2022 a la rendición de todos los informes que se debían presentar ante las diferentes entidades que lo solicitaron. No se evidenció materialización del riesgo. | AC26: 1. Control interno evidencio que en el prmer semestre de 2023 los funcionarios responsables de la rendicion de los informes del proceso de Talento humano, dieron cumplimiento con oportunidad en la rendiciòn de informes de las diferentes plataformas de Ley y se cuenta con las evidencias, todo conforme a los lineamientos normativos establecidos por los entes de control. | AD26: Control interno evidenció que durante el segundo semestre de 2023, se dió cumplimiento con oportunidad a los informes establecidos por Ley y por la entidad, de acuerdo a la periodicidad de redición de los mismos. Se evidenció que se cuenta con el soporte documental de envío de los mismos. | BK26: Durante la vigencia fiscal 2024 se dio cumplimiento con suficiencia y oportunidad a todos los informes que se deben rendir en las diferentes plataformas requeridas por las entidades de control, evitando sanciones por incumplimiento.
A27: 16 | B27: GESTION TALENTO HUMANO | C27: Posibilidad de pérdida económica e impacto sobre el Talento Humano por sanciones moratorias interpuestas por las administradoras adscritas al SGSSS, por la no afiliación de servicios de salud, procesos disciplinarios para el responsable del proceso de afiliación, e insatisfacción del funcionario debido a la falta de cobertura en salud y seguridad social. | D27: ='Matriz de riesgos Inst'!T31 -> BAJO | E27: ='Matriz de riesgos Inst'!AJ31 -> BAJO | F27: Se cumplió con lo establecido en el plan de mejoramiento para que los controles se mitigaran y evitar la materialización del riesgo | G27: 1. Se evidenció que se realizó reinduccion para el procedimiento de ingreso, en lo referente al aseguramiento del personal, establecidendo las fechas límites para que las administradoras notifiquen la novedad de afiliación al sistema. 2. se evidenció que los ingresos de personal presentados durante el I semestre de la vigencia 2022, cuentan con la lista de chequeo "Requisitos de Ingreso para vinculación, empleos de Planta de Cargos" FOR-GTH-22. y se encuentra diligenciada en su totalidad. | R27: 1. Se evidenció que todos los ingresos de personal del segundo semestre de 2022, se ciñeron al prodedimiento de ingreso, y se verificó que se cumplió con el aseguramiento a las diferentes administradoras, validado a través del formato FOR-GTH-22. 2. Se estableció qye El Técnico Administrativo (Aseguramiento) verifica la afiliación al SGSSS, y valida la lista de chequeo "Requisitos de Ingreso para vinculación, empleos de Planta de Cargos" FOR-GTH-22. | AC27: Se evidenciò que los ingresos y novedades de personal presentados durante el primer semestre de la vigencia, fueron validados y aplicados por nòmina respecto a las afiliaciones referentes a las afiliaciones al sistema general de seguridad social. Se evidencia en cada una de las historias laborales de ingreso. | AD27: Control Interno evidenció que el reporte de novedades de personal presentadas durante el II semestre de la vigencia fue realizado oportunamente, no se presentaron inconvenientes con las afiliaciones, traslados, retiros reportados al SGSST. | BK27: En la vigencia 2024 no hubo sanciones moratorias interpuestas por las administradoras adscritas al SGSSS, a causa de la no afiliación de servicios de salud. Cuando se presentan novedades estas son reportadas oportunamente por el área de Talento Humano.
A28: 17 | B28: GESTION TALENTO HUMANO | C28: Posibilidad de impacto operacional por queja o reclamo de los funcionarios debido a reprocesos en la liquidación de la nómina por reportes de novedades extemporáneos o errores involuntarios en su ejecución. | D28: ='Matriz de riesgos Inst'!T33 -> BAJO | E28: ='Matriz de riesgos Inst'!AJ33 -> BAJO | F28: Se cumplió con lo establecido en el plan de mejoramiento para que los controles se mitigaran y evitar la materialización del riesgo | G28: 1. Se verificó que nómina realizó socialización (se observólista de asistencia) de las fechas estabelcidas para el reporte de novedades. 2.Se evidenció el cumplimiento de los controles establecidos para la liquidación de la nómina, de acuerdo a lo establecido en el procedimiento. | R28: 1. Al finalizar la vigencia fiscal, se evidenció que el Procedimiento de nómina se conserva actualizado, el cual establece las fechas de los reportes de novedades. 2. Se evidenció por conrol interno que en el segundo semestre el profesional universitario de nómina, continuó diligenciando la lista de chequeo de las diferentes novedades que presenta la nómina mes a mes, evitando reprocesos. | AC28: 1. Se evidenciò que se contìnua aplicando el procedimiento de nòmina conforme a lo establecido en el PRO-GTH-03. No se evidencian reprocesos de reliquidacion de nòmina por falta de oportunidad de las novedades, estableciendo que èsta se paga oportunamente. 2. Se evidencia por control interno, que el profesional Universitario (nómina) valida y realiza el autocontrol de las novedades de nómina, con listas de chequeo generando confiabilidad en la información, se evidencia que no se han presentado reprocesos durante el período. | AD28: 1. Se da continuidad al cumplimiento de los procesos de la liquidación establecidos desde la nómina, se establecen autocontroles para generar el resultado de la nómina de manera oportuna y con información veraz. 2.Control interno evidencia que las áreas encargadas del reporte de novedades, lo han realizado durante el período de manera oportuna, generando confiabilidad en la información. | BK28: El proceso de la liquidación de la nómina se viene realizando de manera oportuna, cumpliendo con los controles establecidos en los riesgos y demás autocontroles para generar la nómina con información veraz y confiable y no se presentó ninguna novedad en la vigencia 2024.
A29: 18 | B29: GESTION TALENTO HUMANO | C29: Posibilidad de impacto económico y reputacional al solicitar o recibir remuneración, dádivas o cualquier otro tipo de compensación en dinero o especie a nombre propio o de terceros, por modificación en valores de la liquidación de la nómina para beneficio propio o de un tercero, debido a fallas en la apropiación de la cultura de integridad basada en la legalidad, gestión íntegra, principios y valores éticos frente a todas las actuaciones orientadas a los grupos de interés. | D29: ='Matriz de riesgos Inst'!T37 -> MODERADO | E29: ='Matriz de riesgos Inst'!AJ37 -> MODERADO | F29: Se cumplió con lo establecido en el plan de mejoramiento para que los controles se mitigaran y evitar la materialización del riesgo | G29: 1.Se evidenció que al tomar la muestra de liquidación de la nómina se ejecutaron los controles establecidos para el pago de ésta por la líder del programa, la subgerencia administrativa y financiera y la gerencia, con la firma del CDP y visto bueno en los documentos adjuntos de solicitud para el trámite. 2. Se evidenció que la revisoria fiscal realizó el seguimiento a la ejecución del proceso de nómina, validando los documentos adjuntos | R29: 1. Se evidenció que ante la validación de una muestra de nómina del segundo semestre, se continuaron con los controles por parte del líder del programa de Talento Humano, Subgerencia Administrativa y Financiera y la Gerencia, para hacer efectivo el compromiso presupuestal y el posterior pago. 2. La Revisoría fiscal dió continuidad en la vigencia a las auditorías del proceso de gestión del Talento Humano en donde está incluido el proceso de nómina. | AC29: 1. Se verifica que la nòmina tiene un control previo de la gerencia, talento humano y la subgerencia administrativa y financiera, lo que hace que los controles sean efectivos. 2. El asesor de control interno, evidencia las auditorias, realizadas por revisoría fiscal y los entes de control, las cuales conservan su componente financiero, con trazabilidad a la nómina. 3. En muestra tomada por control interno se evidenciò que las nominas generadas durante este semestre de 2023, est.an revisadas por el lìder del programa, la subgerencia financiera y la gerencia lo que asesgura un control pormenorizado del pago de las nominas del semestre. Seguimiento al nuevo control | AD29: 1. Control Interno evidencia que una vez elaborada la nómina se continúan realizando los controles establecidos, el del líder de programa GTH, seguidamente los controles de validación establecidos desde la Subgerencia Admiistrativa y Financiera, y la Gerencia. 2. Se evidenció que al tomar la muestra de liquidación de la nómina se ejecutaron los controles establecidos para el pago de ésta, firma del CDP y visto bueno en los documentos adjuntos de solicitud para el trámite. 2. Se evidencia control posterior por la Revisoría Fiscal la cual hace trazabilidad a la información desde financiero. | BH29: Control Interno evidencia que la nómina tinene unos controles preestablecidos y es validada por el líder de programa GTH, Subgerencia Admiistrativa y Financiera y la Gerencia. Se tomo muestra aleatoria de la liquidación de la nómina, verificando que se cumplieron con los controles establecidos para el pago de la misma, tales como la firma del CDP y visto bueno en los documentos adjuntos de solicitud para el trámite.
A30: 19 | B30: GESTION TALENTO HUMANO | C30: Posibilidad de Impacto operacional por incumplimiento en la ejecución de la inducción, reinducción y entrenamiento en el puesto de trabajo afectando la prestación del servicio, debido a fallas en la integración del funcionario a la cultura organizacional e inasistencia a las jornadas de apropiación del conocimiento, actualización y fortalecimiento institucional | D30: ='Matriz de riesgos Inst'!T39 -> BAJO | E30: ='Matriz de riesgos Inst'!AJ39 -> BAJO | F30: Se cumplió con lo establecido en el plan de mejoramiento para que los controles se mitigaran y evitar la materialización del riesgo | G30: 1. Se evidenció por control interno que se encuentra publicado en la plataforma documental el manual de inducción y reinducción, dando cumplimiento a lo establecido en la norma durante el primer semestre del 2022, se verificó que se realizó la jornada de inducción y reinducción institucional del 25 al 28 d enero de la presente vigencia con una cobertura del 95%. 2.Se evidenció que se tiene publicado en la plataforma documental la matríz de entrenamiento de los empleos del nivel asistencial de la planta de cargos del HDPUV. Igualmente se verificó que se está implementando la inducción y reinducción en la modalidad virtual para reprogramar durante el segundo semestre a los funcionarios que no participaron de la jornada | R30: 1. Se verificó que el Manual de Inducción, Reinducción y Entrenamiento se encuentran actualizados y socializados a toda la comunidad hospitalaria y están dispuestos en la plataforma documental. En el segundo semestre de 2022 se realizó inducción y reinducción a 48 funcionarios y 14 funcionarios en reinducción. 2. Igualmente se verificó el diligenciamiento del plan de entrenamiento en el puesto de trabajo. | AC30: 1. Durante el I semestre de la vigencia (1 de febrero de 2023), se evidencia que se realizó jornada de inducción y reinducción a 64 funcionarios, 45 de los cuales ingresan a proveer mediante nombramiento provisional, empleos de planta de cargos del HDPUV E.S.E. Igualmente se reprogramamron 8 funcionarios que no participaron de la jornada 2022, 5 situaciones administrativas de encargo, y personal que ingresa a la entidad. 2. Se evidencia que la Coordinadora de servicios asistenciales, realizò jornadas de inducción y reinducción cada dos (2) meses, en las cuales participan los funcionarios que ingresan y los profesionales que se encuentran en formación. | AD30: Se evidencia la ejecución de las jornadas de inducción y reinducción institucional durante el período. Control Interno evidencia el cumplimiento del indicador en un 100% , estableciendo que todos los funcionarios que ingresaron a la institución se les socializó nuestra plataforma estratégica institucional, procesos asistnciales y de apoyo. ejes del SUA. | BK30: En el primer sememestre de 2024 no se realizó jornada de inducción y reinducción instituciona. En el segundo semestre en desarrollo de la feria de la excelencia se realizaron jornadas en donde se brindó información relevante de cada uno de los procesos.
A31: 20 | B31: GESTION TALENTO HUMANO | C31: Posibilidad de impacto operacional por falta de asignación presupuestal con destinación a la ejecución de las actividades propuestas desde el Plan de Bienestar, Estímulos e Incentivos, incumplimiento a los objetivos institucionales y a la normatividad vigente, debido a fallas en la identificación y caracterización de las necesidades propuestas desde el plan para el mejoramiento de la calidad de vida de los funcionarios y sus familias. | D31: ='Matriz de riesgos Inst'!T41 -> BAJO | E31: ='Matriz de riesgos Inst'!AJ41 -> BAJO | F31: Se cumplió con lo establecido en el plan de mejoramiento para que los controles se mitigaran y evitar la materialización del riesgo | G31: 1. Se verificó por control interno que de acuerdo a la programación establecida para el primer semestre de 2022, se viene cumpliendo con el Plan de Bienestar. 2. Se estableció que se esta realizando la medición de la Gestión Evaluativa Integral, el plan de bienestar y la aplicabilidad de los principios de humanización. l. | R31: 1. Al finalizar la vigencia 2022, se verificó que el Plan de Bienestar tuvo un cumplimiento del 100% de las actividades programadas para la vigencia. 2. Se estableció la medición de la Gestión Evaluativa Integral, el plan de bienestar y la aplicabilidad de los principios de humanización y se identificaron con un nivel de aprobación alto, por parte de los 206 funcionarios encuestados. Se encontró que el 89% de la población, califica con alto grado de concordancia las actividades que conforman el plan de bienestar actual. | AC31: 1. Se evidencia que con corte al 30 de junio de 2023, el Plan de Bienenstar tiene un porcentaje de cumplimiento del 54% 2. Se evidencia que desde el Programa de Fortalecimiento de Cultura Organizacional, Palanca Prácticas de Gestión Humana, se implementó el Bienestar Integral en cuatro (4) ejes.Durante los meses de Abril y Mayo se realizó la revisión del plan actual de bienestar y estímulos para ajustarlo al modelo de Bienestar en 4 Ejes que quedó definido en la vigencia anterior. Igualmente se lleva a cabo el diseño y planeación del Programa Vivir SanaMente, que hace parte del plan de Bienestar y consolida los ejes Físico y Emocional. Paralelamente durante el mes de Mayo se tienen reuniones con todos los funcionarios de la Institución de socialización de resultados de la encuesta sociodemográfica que se condujo en el 2022 y de la reformulación del modelo de bienestar a implementar en la Institución. | AD31: Control Interno evidencia el cumplimiento de las actividades establecidas desde el Plan de Bienenstar, Estímulos e Incentivos , el indicador consolidó un cumplimiento del 100% de las actividades. | BK31: En la vigencia fiscal se desarrollaron actividades que impactaron el cumplimiento del Plan de Bienenestar estimulos e incentivos, en donde se observó un cumplimiento del 100% de las actividades propuestas para el año 2024.
