Workbook
Name \0: #REF!
Name \BD: #REF!
Name \BJ: #REF!
Name \BP: #REF!
Name \CA: #REF!
Name \i: #REF!
Name \m: #REF!
Name A_IMPRESIÓN_IM: #REF!
Name A205_: #REF!
Name A242_: #REF!
Name A255_: #REF!
Name A498_: #REF!
Name A534_: #N/A
Name A598_: #REF!
Name A641_: #REF!
Name A68_: #REF!
Name A784_: #REF!
Name Accounts: #REF!
Name Accrual___payment_of_dividends: #REF!
Name ACT: #REF!
Name AFANT: #REF!
Name AFHOY: #REF!
Name ahaccionistas01: #REF!
Name AJPAAG: #REF!
Name año: #REF!
Name AÑO_A_PROCESAR: #REF!
Name año1: #REF!
Name AÑOS_A_PROCESAR: #REF!
Name AppName: #REF!
Name Área_de_impresión1: #REF!
Name ASFSD: #REF!
Name Assertions: #REF!
Name BASE: #REF!
Name BCE: #REF!
Name BCEBONOS: #REF!
Name BCECAMBIOS: #REF!
Name BCEEMPRESA: #REF!
Name BCERENTA: #REF!
Name BCETESOROS: #REF!
Name BLOQUE: #REF!
Name BuiltIn_Print_Area___0: #REF!
Name BuiltIn_Print_Titles___0: #REF!
Name CAR: #REF!
Name CAVR: #REF!
Name cdtaccinistas01: #REF!
Name CO.Otros_Cuentas: #REF!
Name CO.Otros_Monto: #REF!
Name CO.Riesgo_Cuentas: #REF!
Name CO.Riesgo_Monto: #REF!
Name CO.Tesoreria_Cuentas: #REF!
Name COMP3CM: #REF!,#REF!,#REF!,#REF!,#REF!
Name COMP3PM: #REF!,#REF!,#REF!,#REF!
Name COMP3PY: #REF!,#REF!,#REF!,#REF!,#REF!
Name COMPCM: #REF!,#REF!,#REF!,#REF!,#REF!,#REF!,#REF!
Name COMPPM: #REF!,#REF!,#REF!,#REF!,#REF!,#REF!,#REF!
Name COMPPY: #REF!,#REF!,#REF!,#REF!,#REF!,#REF!,#REF!,#REF!
Name con10_partic: #REF!
Name conahdirectivos01: #REF!
Name conahojunta01: #REF!
Name concdtdirectivos01: #REF!

Sheet Instructivo
B2: EVALUACIÓN INDEPENDIENTE SISTEMA DE CONTROL INTERNO (instrucciones para su diligenciamiento)
B6: Teniendo en cuenta que con la expedición del Decreto 1499 de 2017 “Por medio del cual se modifica el Decreto 1083 de 2015, Decreto Único Reglamentario del Sector Función Pública, en lo relacionado con el Sistema de Gestión establecido en el artículo 133 de la Ley 1753 de 2015”, se crea un solo Sistema de Gestión y se alinea con el Sistema de Control Interno, hoy todas las entidades públicas requieren actualizar y/o implementar el Modelo Integrado de Planeación y Gestión MIPG, modelo que incorpora el Modelo Estándar de Control Interno MECI a través de la 7a dimensión del mismo. Esta estructura requiere de un análisis articulado frente al desarrollo de las políticas de gestión y desempeño contenidas en el modelo y su efectividad en relación con la estructura de control, este útlimo, aspecto esecial para garantizar el buen manejo de los recursos, que las metas y objetivos se cumplan y se mejore la prestación del servicio a los usuarios, ejes fundamentales para la generación de valor público. Teniendo en cuenta lo anterior y dada la necesidad de dar cumplimiento a la dispuesto en el articulo 156 del Decreto 2106 de 2019, el presente formato busca que las entidades cuenten con una herramienta para evaluar sus Sistemas de Control Interno de manera integral y permitirle al Jefe de Control Interno o quien haga sus veces llevar a cabo el informe de evaluación independiente sobre el mismo para su publicación cada seis (6) meses, en el sitio web de la entidad.
B8: Orientaciones Generales
B9: El archivo contiene las siguientes hojas: - Pestañas por cada uno de los componentes de control interno: "Ambiente de Control", "Evaluación de riesgos", "Actividades de control", "Información y Comunicación", y " Actividades de Monitoreo". las cuales cuentan todas con la siguiente estructura:
C12: Columna | E12: Descripción
C13: Lineamiento X: | E13: Esta columna define los lineamientos generales para cada uno de los componentes del MECI y se asocian los temas específicos que se deben analizar en cada uno.
C14: DIMENSIÓN O POLÍTICA DEL MIPG ASOCIADA AL REQUERIMIENTO | E14: En esta columna se deben asociar la (las) dimensión (es), así como la (s) política (s) de gestión y desempeño que permiten el desarrollo del tema en la entidad, en el marco del Modelo Integrado de Planeación y Gestión MIPG.
C15: Evaluación "si se encuentra Presente" Referencia a Procesos, Manuales/Políticas de Operación/Procedimientos/Instructivos u otros desarrollos que den cuente de su aplicación | E15: Indicar el nombre del proceso, manual, política de operación, procedimiento o instructivo en donde se encuentra documentado y su fuente de consulta. De acuerdo con lo identificado como resultado de la evaluación del requerimiento, seleccione de la lista desplegable 1, 2 o 3 de acuerdo con las siguientes definiciones: 1 - No existen actividades diseñadas para cubrir el requerimiento. 2 - Existen actividades diseñadas o en proceso de diseño, pero éstas no se encuentran documentadas en las políticas/procedimientos u otras herramientas 3 - Las actividades se encuentran diseñadas, documentadas y socializadas de acuerdo con el requerimiento. Nota: Entiendase "diseñada" como aquella actividad que cuenta con un responsable(s), periodicidad (cada cuanto se realiza ), proposito (objetivo), Como se lleva a cabo (procedimiento), qué pasa con las desviaciones y/o excepciones (producto de su ejecucion) y cuenta con evidencia (documentacion).
C16: EVIDENCIA DEL CONTROL | D16: No. | E16: Relaciona el consecutivo de las evidencias que se identifican en relación con la efectividad del control.
D17: Referencia a Análisis y verificaciones en el marco del Comité Institucional de Coordinación de Control Interno | E17: Indicar las acciones que se han adelantado para evaluar el estado del Sistema de Control Interno en el marco del Comité Institucional de Coordinación de Control Interno. Acciones entendidas a las modificaciones, actualizaciones y actividades de fortalecimiento del sistema a partir de la normatividad vigente.
D18: Observaciones de la evaluacion independiente (tener encuenta papel de líneas de defensa) | E18: Indicar las acciones que se han adelantado en el marco de la evaluaciòn independiente (auditoria interna), sobre el estado del Sistema de Control Interno . Acciones entendidas en la evaluación y monitoreo de la efectividad del control, incluyendo el seguimiento a los controles de la primera y segunda linea de defensa.
C19: Evaluación "si se encuentra Funcionando" | E19: Seleccionar de la lista desplegable 1, 2 o 3 de acuerdo con los siguientes criterios y basado en los resultados reportados por la Oficina de Control Interno así: 1 - El control no opera como está diseñado o bien no está presente (no se ha implementado) 2 - El control opera como está diseñado pero con algunas falencias 3- El control opera como está diseñado y es efectivo frente al cumplimiento de los objetivos y para evitar la materialización del riesgo.
B21: - Análisis de Resultados: Esta hoja permite establecer si el Sistema de Control Interno evaluado se encuentra PRESENTE y FUNCIONANDO, permitiéndo definir puntos de mejora a través de los componentes del MECI y su articulacion con las Dimensiones del MIPG.
C23: Clasificación | D23: Descripción | F23: Observaciones del Control
C24: Mantenimiento del Control | D24: Cuando en el análisis de los requerimientos en los diferentes componentes del MECI se cuente con aspectos evaluados en nivel 3 (presente) y 3 (funcionando). | F24: Se encuentra presente y funciona correctamente, por lo tanto se requiere acciones o actividades dirigidas a su mantenimiento dentro del marco de las lineas de defensa.
C25: Oportunidad de Mejora | D25: Cuando en el análisis de los requerimientos en los diferentes componentes del MECI se cuente con aspectos evaluados en nivel 2 (presente) y 3 (funcionando). | F25: Se encuentra presente y funcionando, pero requiere mejoras frente a su diseño, ya que opera de manera efectiva
C26: Deficiencia de Control (Diseño o Ejecución) | D26: Cuando en el análisis de los requerimientos en los diferentes componentes del MECI se cuente con aspectos evaluados en nivel 2 (presente) y 2 (funcionando); 3 (presente) y 1 (funcionando); 3 (presente) y 2 (funcionando); 2 (presente) y 1 (funcionando) | F26: Se encuentra presente y funcionando, pero requiere acciones dirigidas a fortalecer o mejorar su diseño y/o ejecucion.
C27: Deficiencia de Control Mayor (Diseño y Ejecución) | D27: Cuando en el análisis de los requerimientos en los diferentes componentes del MECI se cuente con aspectos evaluados en nivel 1 (presente) y 1 (funcionando);1 (presente) y 2 (funcionando); 1(presente) y 3 (funcionando). | F27: No se encuentra presente por lo tanto no esta funcionando, lo que hace que se requieran acciones dirigidas a fortalecer su diseño y puesta en marcha
B30: - Conclusiones: Esta hoja permite establecer si el Sistema de Control Interno evaluado se encuentra PRESENTE y FUNCIONANDO, definiendo puntos de mejora a través de los componentes del MECI y su relación con las Dimensiones del MIPG.
B32: - Definiciones: Algunos términos asociados a con control interno y utilizados en diferentes partes del formato.

Sheet Definiciones
B2: Términos y Definiciones
B4: Término | C4: Descripción
B5: Actividad de control | C5: Acciones establecidas en los procesos, políticas, procedimientos u otras herramientas que permiten que se lleven a cabo las instrucciones de la Administración para mitigar los riesgos relacionados con el logro de los objetivos. Las Actividades de Control son un Componente del Control Interno.
B6: Alta Dirección | C6: Comprende los empleos del Nivel Directivo a los cuales corresponden funciones de dirección general, de formulación de políticas institucionales y de adopción de planes, programas y proyectos. (Decreto 770 de 2005)
B7: Ambiente de control | C7: El ambiente de control establece el tono de una organización. Es la base de los otros componentes del control interno pues define los valores y principios con los cuales se rige la entidad e influye en la conciencia de los servidores sobre la forma en que se deben llevar a cabo las operaciones.
B8: Comité Institucional de Coordinación de Control Interno | C8: Instancia del más alto nivel jerárquico, creado como órgano asesor e instancia decisora en los asuntos de control interno, de oblgatoria conformación para todas las entidades estatales. (Ley 87 de 1993, art 13 y Decreto 648 de 2017).
B9: Comité Institucional de Gestión y Desempeño | C9: Instancia del más alto nivel jerárquico, encargado de orientar la implementación y operación del Modelo Integrado de Planeación y Gestión MIPG, de oblgatoria conformación para todas las entidades estatales. (Decreto 1499 de 2017).
B10: Componente | C10: Uno de los cinco elementos del Modelo Estándar de Control Interno MECI.
B11: Conflicto de interés | C11: Situación en la cual un auditor interno, que ocupa un puesto de confianza, tiene interés personal o profesional en competencia con otros intereses. Tales intereses pueden hacerle difícil el cumplimiento imparcial de sus tareas. (Tomado de las Normas Internacionales de Auditoría Interna Norma 1120) En el sector público el conflicto de interés existe cuando el interés personal de quien ejerce una función pública colisiona con los deberes y obligaciones del cargo que desempeña. (Guía Conflictos de Interés de Servidores Públicos. Función Pública. 2018).
B12: Control Interno | C12: Estructura de procesos, políticas, procedimientos, manuales y otras herramientas diseñadas por la entidad para proporcionar seguridad razonable de que los objetivos y metas se alcanzarán y que los eventos no deseados se evitaran o bien se detectaran y corregirán.
B13: Control interno efectivo | C13: El Sistema de Control Interno para que sea efectivo requiere que cada uno de los cinco componentes del MECI y sus lineamientos, estén presentes, funcionando y operando de manera articulada con el MIPG.
B14: Controles generales de TI | C14: Actividades de control que ayudan a asegurar la apropiada operación de la tecnología, incluyen los controles sobre la infraestructura de tecnología, seguridad de la información, adquisición de tecnología su desarrollo y mantenimiento.
B15: Corrupción | C15: Posibilidad de que por acción u omisión, se use el poder para desviar la gestión de lo público hacia un beneficio privado. (Secretaría de Transparencia)
... B39: Lineas de Defensa | C39: Esquema de asignación de responsabilidades, adaptada del Modelo de las 3 Líneas de Defensa” del Instituto de Auditores, el cual proporciona una manera simple y efectiva para mejorar las comunicaciones en la gestión de riesgos y control mediante la aclaración de las funciones y deberes esenciales relacionados, que permiten contar con diferentes niveles para el control.

Sheet Ambiente de Control
C18: AMBIENTE DE CONTROL
C19: La entidad debe asegurar un ambiente de control que le permita disponer de las condiciones mínimas para el ejercicio del control interno. Esto se logra con el compromiso, liderazgo y los lineamientos de la alta dirección y del Comité Institucional de Coordinación de Control Interno. El Ambiente de Control es el fundamento de todos los demás componentes del control interno, se incluyen la integridad y valores éticos, la competencia (capacidad) de los servidores de la entidad; la manera en que la Alta Dirección asigna autoridad y responsabilidad, así como también el direccionamiento estratégico definido.
B21: ID | C21: Lineamiento 1: La entidad demuestra el compromiso con la integridad (valores) y principios del servicio público | D21: DIMENSIÓN O POLÍTICA DEL MIPG ASOCIADA AL REQUERIMIENTO | E21: Explicación de cómo la Entidad evidencia que está dando respuesta al requerimiento Referencia a Procesos, Manuales/Políticas de Operación/Procedimientos/Instructivos u otros desarrollos que den cuente de su aplicación | F21: Presente (1/2/3) | G21: EVIDENCIA DEL CONTROL | J21: Funcionando (1/2/3) | K21: Evaluación | L21: Observaciones de la evaluacion independiente (tener encuenta papel de líneas de defensa de enero a diciembre de 2025 | M21: Observaciones de la evaluacion independiente (tener encuenta papel de líneas de defensa de Enero a diciembre de 2025
G22: No. | H22: Referencia a Análisis y verificaciones en el marco del Comité Institucional de Coordinación de Control Interno | I22: Observaciones de la evaluacion independiente (tener encuenta papel de líneas de defensa) de enero a diciembre de 2025
A24: EJEMPLO | B24: =+LEFT(C24,3) -> Ap | C24: Aplicación del Código de Integridad. (incluye análisis de desviaciones, convivencia laboral, temas disciplinarios internos, quejas o denuncias sobres los servidores de la entidad, u otros temas relacionados). | D24: Dimensión Talento Humano Política Integridad | E24: En el periodo enero a diciembre de 2025 desde la palanca de lideres y equipos se realizó una actividad de Grupo Focal dirigida a los Médicos Generales y Médicos Especialistas, con el objetivo de un espacio de dialogo que nos brindara la oportunidad de recopilar sus opiniones y perspectivas sobre diversos aspectos del funcionamiento del hospital, asi como identificar oportunidades de mejora para fortalecer la institución. También se dió continuidad a la formación de Líderes y Equipos Conscientes impartiendo temas de formación para Directivos, Líderes, Profesionales con personal a cargo, responsables de procesos y ejes de acreditación, equipos de trabajo, profundizando en habilidades de los equipos, lo que permitió homogenizar y desarrollar las habilidades requeridas en el marco de cultura organizacional que se quiere fomentar, con el Taller de Pensamiento Estratégico formación basada en el aprendizaje activo que exige al participante reflexionar de manera individual y colectiva sobre los conceptos y conocimientos que está adquiriendo y descubrir cómo los puede poner en acción e implementar para su desarrollo personal y profesional, estableciendo metas y compromisos claros de aplicación, hubo participación de 33 funcionarios. En el Fortalecimiento de Cultura Organizacional, se realizó la conmemoración del Dia Nacional del Servidor Publico, se realizo la apropiación de los valores institucionales con el propósito de la atención consciente a los valores en la construcción de cimientos sólidos que guían el comportamiento y las interacciones en el entorno laboral. con la participacion de 191 funcionarios | F24: 3 | G24: 1 | H24: Frente al Comité Institucional de control interno se presentó el programa de intervención de fortalecimiento de cultura organizacional para la vigencia 2025. Se informo sobre las actividades y actuaciones a realizar durante el primer semestre, sobre la actividad de los grupos focales dirigida a los médicos Generales y Medicos Especialistas, también sobre la formación de Directivos, Líderes, Profesionales con Personal a cargo, responsables de procesos y ejes de acreditación y equipos de trabajo con el Taller de Pensamiento Estratégico. Se informó al comité sobre la conmemoración del día nacional del Servidor Público | I24: Al seguimiento por control interno de enero a junio y de julio a noviembre de 2025 , es importante anotar que el componente Ambiente de Control se desarrolló conforme a lo establecido en el Modelo integrado de planeación y de Gestión MIPG, verificando que se continuo con el proceso de Fortalecimiento de la Cultura Organizacional, se busca implementar un modelo de actuación para las personas en posiciones de mando y para los equipos de trabajo, que propenda por los resultados, el cuidado de las relaciones y del ser. El plan de intervencion propuesto durante este periodo se orientó a realizar la fase de planeación del programa de Valores Vividos, definición de valores institucionales y conductas asociadas, piezas de expectativa para su lanzamiento, que incentivan a los funcionarios a compartir y aplicar los valores Institucionales, en su diario actuar. Se conmemoró el día nacional del Servidor Público, en donde se resaltò la labor de los servidores públicos del HDPUV, se fortalecieron los valores institucionales. | J24: 3 | K24: Mantenimiento del control | L24: Se observó por control interno que el periodo enero a junio y de julio a noviembre de 2025 desde el programa de Fortalecimiento de cultura durante estos periodos se trabajo desde las palancas las siguientes actividades: Taller de Reinvención dirigido al Comité gerencial, Enfermeros y profesionales del área de la salud con el objetivo de aprender una habilidad clave del líder para gestionar la disrupción constante, con una participación de 39 personas Taller del Control a la Confianza: La accountability como Motor de Liderazgo, dirigido al comité gerencial y al grupo de profesionales de la salud enfermeros – terapeutas ocupacionales que tiene como objetivo de Fortalecer en los participantes la capacidad de liderazgo mediante la práctica del accountability, entendida como la responsabilidad personal y colectiva frente a los compromisos asumidos, potenciando la confianza, la credibilidad y la coherencia en la gestión de equipos y proyectos, con una participación de 82 personas. Palanca Prácticas de Gestión Humana se realizó desde el eje emocional en la promoción de los jardines terapéuticos con el objetivo de trabajar en la importancia de los jardines terapéuticos dando prioridad a la salud mental de los trabajadores, en apoyo con seguridad del paciente, bienestar integral humanización y Grupo Ges, la actividad consistió en ofrecer un espacio de esparcimiento al aire libre dándole a nuestros trabajadores Tips y herramienta en que el trabajador pueda fortalecer su salud mental en este caso estamos hablando de actividades de relajación, actividades de respiración . Realización de la Charla de la ciencia de ser feliz y como aplicarla con el objetivo de explorar los hallazgos y descubrir prácticas para incorporar más bienestar para nuestra vida cotidiana, con una participación de 153 personas Talle de finanzas saludables con el objetivo aprender a ahorrar, controlar los gastos, controlar las deudas y saber cómo crecer el dinero para construir un futuro. Tener Finanzas saludables impacto positivamente la calidad de vida de las personas, dirigido a todo el personal de la institución, con una participación de 133 personas. Compromiso y colaboración clave para equipos de altos rendimientos. Con el objetivo fortalecer la cultura del trabajo conjunto, desarrollar la corresponsabilidad de crear entornos donde las personas no solo trabajan juntas, sino que crecen juntas, con una participación de 147 personas. | M24: Durante el primer y segundo semestre de la vigencia 2025 se trabajó desde las siguientes palancas de cambio: Palanca de Líderes y Equipos se realizó la divulgación de la medición de liderazgo dirigida a los enfermeros con el objetivo de socializar la importancia de la medición de liderazgo que se realizará a los profesionales con personal a cargo, con una participación de 18 personas. Se realizó el Taller de Reinvención dirigido al Comité gerencial, Enfermeros y profesionales del área de la salud con el objetivo de aprender una habilidad clave del líder para gestionar la disrupción constante, con una participación de 39 personas Taller del Control a la Confianza: La accountability como Motor de Liderazgo, dirigido al comité gerencial y al grupo de profesionales de la salud enfermeros – terapeutas ocupacionales que tiene como objetivo de Fortalecer en los participantes la capacidad de liderazgo mediante la práctica del accountability, entendida como la responsabilidad personal y colectiva frente a los compromisos asumidos, potenciando la confianza, la credibilidad y la coherencia en la gestión de equipos y proyectos, con una participación de 82 personas. Palanca Prácticas de Gestión Humana se realizó desde el eje emocional en la promoción de los jardines terapéuticos con el objetivo de trabajar en la importancia de los jardines terapéuticos dando prioridad a la salud mental de los trabajadores, en apoyo con seguridad del paciente, bienestar integral humanización y Grupo Ges, la actividad consistió en ofrecer un espacio de esparcimiento al aire libre dándole a nuestros trabajadores Tips y herramienta en que el trabajador pueda fortalecer su salud mental en este caso estamos hablando de actividades de relajación, actividades de respiración . Realización de la Charla de la ciencia de ser feliz y como aplicarla con el objetivo de explorar los hallazgos y descubrir prácticas para incorporar más bienestar para nuestra vida cotidiana, con una participación de 153 personas Talle de finanzas saludables con el objetivo aprender a ahorrar, controlar los gastos, controlar las deudas y saber cómo crecer el dinero para construir un futuro. Tener Finanzas saludables impacto positivamente la calidad de vida de las personas, dirigido a todo el personal de la institución, con una participación de 133 personas. Compromiso y colaboración clave para equipos de altos rendimientos. Con el objetivo fortalecer la cultura del trabajo conjunto, desarrollar la corresponsabilidad de crear entornos donde las personas no solo trabajan juntas, sino que crecen juntas, con una participación de 147 personas. Círculos Comunicación No Violenta, con el objetivo de brindar a los participantes un espacio de reflexión y aprendizaje sobre la práctica de los círculos de comunicación no violenta, promoviendo habilidades de escucha activa, empatía y expresión auténtica que fortalezcan las relaciones interpersonales, faciliten la resolución pacífica de conflictos y fomenten una cultura de diálogo constructivo en los diferentes ámbitos de la vida. Con una participación de 106 personas. Relaciones saludables con el objetivo de fomentar en los participantes la comprensión y práctica de relaciones saludables a través del reconocimiento de límites personales, el desarrollo de la empatía y la validación mutua, fortaleciendo así vínculos basados en el respeto, el cuidado y la comunicación asertiva. Con una participación de 104 personas En el marco de nuestra cultura organizacional se realizó la celebración del día del servidor público, se exalto la labor de cada servidor y servidora pública que, con vocación, compromiso y ética, entrega lo mejor de sí al servicio de la salud mental y el bienestar de la comunidad. El objetivo principal de la actividad del Día del Servidor Público es reconocer y valorar la labor de los funcionarios y empleados que trabajan en nuestra institución. Buscando fortalecer el sentido de pertenencia, la eficiencia, la ética y la calidad del servicio público, además de promover la reflexión sobre el papel del servidor público en la sociedad. • Reconocer la labor: Destacar la importancia del trabajo de los servidores públicos y su contribución al desarrollo del país. • Fortalecer valores: Promover y fortalecer nuestros valores institucionales los cuales son: Compromiso, diligencia y servicio, conocimiento, honestidad, humanización, justicia e inclusión, respecto y seguridad. • Fomentar la reflexión: Crear espacios para que los servidores públicos reflexionen sobre su rol y su impacto en la sociedad y en nuestra institución • Integración y bienestar: Ofrecer momentos de esparcimiento y camaradería para fortalecer el ambiente laboral. | N24: {=+N24:CG24M24N24:CF24N24:CH24M24N24:CF24} -> #NAME?
G25: 2
G26: 3
G27: 4
G28: 5
G29: 6
G30: 7
G31: 8
B32: =+LEFT(C32,3) -> 1.1 | C32: 1.1 Aplicación del Código de Integridad. (incluye análisis de desviaciones, convivencia laboral, temas disciplinarios internos, quejas o denuncias sobres los servidores de la entidad, u otros temas relacionados). | D32: Dimensión Talento Humano Política Integridad | E32: En el periodo comprendido de enero a junio y de julio a noviembre de 2025 no se presentaron manifestaciones por presuntas fallas frente al incumplimiento del Código de Integridad por parte de los funcionarios. La entidad realizó la medición de la gestión institucional a través de la formulación y desarrollo de indicadores orientados al sistema de la gestión ética, propuestos en el Código de Conducta y Buen Gobierno. Se cuenta con el Comite de Convivencia laboral en donde se da cumplimiento a los objetivos de la resolución de creación, al quorum y al plan de trabajo establecido para la vigencia 2025. | F32: 3 | G32: 1 | H32: Ante el comité de Institucional de control interno se presentaron las manifestacioes de los 3 trimestres de la vigencia 2025 quedando pendiente el ultimo trimestre que cierra el 31 de diciembre de 2025. Se verifico que no se presentaron manifestaciones por presuntas fallas frente al incumplimiento del Código de Integridad por parte de los funcionarios. Se informó al comité que se implementó el Programa de Transformación Cultural donde se integra la socialización del Código de Integridad y se despliegan actividades para el monitoreo del objetivo propuesto. Se establecíó que el Comité de Convivencia Laboral resolvió oportunamente las solicitudes presentadas por los funcionarios y que se reunió de acuerdo a lo establecido en la resolución de creación, cumpliendo con la periodicidad. Para el 2025 hasta julio se recibieron un total de 293 manifestaciones de las cuales: 266 son felicitaciones cuyo porcentaje es del 90,8%; Quejas 22 cuyo porcentaje es 7,5%; Peticiones 1 con porcentaje del 03%, sugerencias 2 porcentaje del 0.7% y reclamos 2 cuyo porcentaje es del 0.7%. | I32: De acuerdo al seguimiento realizado por control interno se estableció que revisados los tres primeros trimestres de la vigencia 2025 no se presentaron manifestaciones por presuntas fallas frente al cumplimiento del Código de Integridad por parte de los funcionarios. Igualmente se evaluo por parte de control interno las manifestaciones en este periodo y se observò que la informaciòn recepcionada por los canales de comunicaciòn dispuestos por la entidad para las PQRS, fue evaluada y se le diò respuesta oportuna a las manifestaciones. Estas fueron publicadas en la pàgina web de la entidad en la pestaña de transparencia. Las quejas que involucran funcionarios de la entidad fueron resueltas y puestas en conocimiento del lider de proceso al que pertenecen. Igualmente se realizò seguimiento al comite de concivencia laboral y las diferentes actuaciones que afectan la conducta del funcionario y fueron puestas en conocimiento de control disciplinario | J32: 3 | K32: Mantenimiento del control | L32: Durante el periodo enero a junio y de julio a noviembre de 2025, no se han presentado manifestaciones por presuntas fallas frente al incumplimiento del Código de Integridad por parte de los funcionarios. La gestión frente a este tipo de manifestaciones se encuentra documentada en el numeral 5.7.5 Gestión de Manifestaciones a presunta falla frente al cumplimiento del Código de Integridad institucional – Conflicto de Interés, del Manual de Sistema de Información y Atención al Usuario (MAN-SIA-01). Igualmente el Hospital realiza la medición de la gestión institucional a través de la formulación y desarrollo de indicadores orientados al sistema de la gestión ética, propuestos en el Código de Conducta y Buen Gobierno. Dentro de la evaluación realizada por el asesor de control interno para este periodo, se observó que el reporte del indicador de vulneración de derechos no se presentaron manifestaciones de vulneracion de derechos, se presento un indicador controlado, sin embargo el indicador no supera el 20% de la meta establecida, ya que el porcentaje fue 0% por no presentarse ninguna manifestacion de vulneracion de derechos. | M32: Durante la vigencia de 2025 no se presentaron manifestaciones por presuntas fallas frente al incumplimiento del Código de Integridad por parte de los funcionarios. La entidad realizó la medición de la gestión institucional a través de la formulación y desarrollo de indicadores orientados al sistema de la gestión ética, propuestos en el Código de Conducta y Buen Gobierno. Se cuenta con el Comite de Convivencia laboral en donde se da cumplimiento a los objetivos de la resolución de creación, al quorum y al plan de trabajo establecido para la vigencia 2025. Para el 2025 y hasta septiembre se recibieron un total de 472 manifestaciones de las cuales: 432 son felicitaciones cuyo porcentaje es del 91,5%; Quejas 32 cuyo porcentaje es 6,8%; Peticiones 3 con porcentaje del 0.6%, sugerencias 2 porcentaje del 0.4% y reclamos 2 cuyo porcentaje es del 0.4%. En el periodo analizado enero a septiembre de 2025 se mantuvo la meta e indicador controlado ya que no se superó los 5 días hábiles de respuesta de las manifestaciones., se puede ver un promedio de respuesta de 4 días hábiles promedio de las 40 manifestaciones entre (quejas, solicitudes, peticiones, sugerencias y reclamos) que requirieron respuesta. En este periodo analizado tercer trimestre en donde se encuentran igualmente analizados los dos trimestres anteriores(enero – septiembre 2025), de 1597 usuarios evaluados el 98,12% respondieron la experiencia global como muy buena y buena, manteniendo un indicador controlado ya que la meta establecida está en 95%, manteniendo el resultado de satisfacción con relación a los periodos anteriores. En el desagregado 1235 usuarios respondieron como “muy buena” su experiencia global y 332 calificaron su experiencia como “buena”.
G34: 3
G35: 4
G36: 5
G37: 6
G38: 7
G39: 8
B40: =+LEFT(C40,3) -> 1.2 | C40: 1.2 Mecanismos para el manejo de conflictos de interés. | D40: Dimensión Talento Humano Política Integridad | E40: En la institución se presenta el espacio de concertación y diálogo entre la Gerencia y los sindicatos. La entidad continúa implementando el Código de Integridad acorde con el esquema definido de 5 valores y sus lineamientos de conducta y se desarrollaron ejercicios internos con talleres para la socialización e interiorización a todos los servidores y contratistas de la entidad. | F40: 3 | G40: 1 | H40: Se establece que desde el Programa de Humanización perspectiva funcionario = humanización hacia el funcionario, se establecen estrategias específicas como lo son: Cuidando al Cuidador, el SGSST, Gestión del conocimiento, Gestión de competencias, Fortalecimiento de Cultura | I40: En el periodo comprendido entre enero a junio y de julio a noviembre de 2025, se diò continuidad a potenciar la Cultura Organizacional, el dia 27 de junio se conmemoró el día Nacional del Servidor Público, fecha en la cual se resaltó la labor de los servidores públicos de la institución. Se verificó por Control interno que desde el Talento Humano de la entidad se continúa promoviendo la cultura de integridad en los servidores públicos, lo que permite implementar prácticas preventivas para evitar el interés particular. | J40: 3 | K40: Mantenimiento del control | L40: Al seguimiento de enero a junio y de julio a noviembre de 2025 se continua potenciando la Cultura Organizacional, el dia 27 de junio se conmemoró el día Nacional del Servidor Público, fecha en la cual se resaltó la labor de los servidores públicos de la institución, mediante el desarrollo de jornadas educativas de reflexión para fortalecer el actuar de los servidores públicos y quienes prestan servicios al interior de la entidad, lo que implica y requiere un comportamiento especial, un deber-ser particular, una manera específica de actuar, orientados bajo la cultura de la legalidad y la ética de lo público. En el marco del programa de humanización se han aplicado las prácticas humanizantes basadas en los valores y principios organizacionales durante la ruta de atención del paciente, que permiten mejorar la satisfacción del cliente, evidenciado en el cumplimiento del temario de humanización establecido en el PIC. La institución fortalece los mecanismos para el manejo de conflictos, entre los cuales tenemos los comités institucionales de ética y convivencia laboral los cuales dieron respuesta oportuna a las solicitudes de los funcionarios. El Hospital Departamental Psiquiátrico Universitario del Valle E.S.E., a la fecha tiene suscrito con la Asociación Nacional Sindical de Trabajadores y Servidores Públicos de la Salud, Seguridad Social Integral y Servicios Complementarios Anthoc - Asositrapsi, acuerdo colectivo de trabajo vigencia 2023-2025 donde se concertan condiciones del empleo en el marco de relaciones de respeto entre la entidad y las organizaciones sindicales de empleados públicos, instando a las partes a su cabal cumplimiento en la forma y términos acordados, redundando en un buen clima organizacional. | M40: En el periodo enero a noviembre de 2025, se dió continuidad a potenciar la Cultura Organizacional, en el mes de junio se conmemoró el día Nacional del Servidor Público, fecha en la cual se exalto la labor de cada servidor y servidora pública que, con vocación, compromiso y ética, entrega lo mejor de si al servicio de la salud mental y el bienestar de la comunidad. El objetivo principal de la actividad del Día del Servidor Público es reconocer y valorar la labor de los funcionarios y empleados que trabajan en nuestra institución. Buscando fortalecer el sentido de pertenencia, la eficiencia, la ética y la calidad del servicio público, además de promover la reflexión sobre el papel del servidor público en la sociedad. En el marco del programa de humanización se han aplicado las prácticas humanizantes basadas en los valores y principios organizacionales durante la ruta de atención del paciente, que permiten mejorar la satisfacción del cliente, evidenciado en el cumplimiento del temario de humanización establecido en el PIC. La institución fortalece los mecanismos para el manejo de conflictos, entre los cuales tenemos los comités institucionales de ética y convivencia laboral los cuales establecieron para la vigencia el plan de trabajo anual, sesionando durante la vigencia del enero a agosto dando respuesta oportuna a las solicitudes de los funcionarios.
G41: 2 | H41: El lider de Talento humano presento ante el comité de control interno la Formacion de pensamiento estratégico, dirigido a profesionales y lideres, en el periodo de enero a junio y de julio a noviembre de 2025.
G42: 3
G43: 4
G44: 5
G45: 6
G46: 7
G47: 8
B48: =+LEFT(C48,3) -> 1.3 | C48: 1.3 Mecanismos frente a la detección y prevención del uso inadecuado de información privilegiada u otras situaciones que puedan implicar riesgos para la entidad. | D48: Dimensión Información y Comunicación Política Transparencia y Acceso a la Información Pública Política Gestión Documental | E48: 1. El Hospital cuenta con un acuerdo de confidencialidad para los servidores públicos de la institución, en donde se manifiesta el uso, privacidad y seguridad de la información del hospital. 2. Iguamente la entidad tiene la política de tratamiento y protección de datos personales, la cual es socializada en toda la comunidad hospitalaria. 3. También el hospital creó el manual de seguridad de la información y uso de los recursos informáticos. 4. El HDPUV implementó la Política de Gestión Documental, política que está publicada en transparencia de la página web y en la plataforma documental de la entidad. | F48: 3 | G48: 1 | H48: Ante el Comité de Control interno se evidenció el "Acuerdo de confidencialidad de servidores públicos hospital Departamental Psiquiátrico Universitario del Valle", el cual es firmado al momento del ingreso a laborar con la institución, con la suscripción del contrato el funcionario se compromete al buen uso, privacidad y seguridad de la información de la institución. | I48: Se verificó por control interno que se socializó la politica de seguridad de la información y uso de los recursos informáticos a todos los funcionarios del hospital y el manual de seguirdad de la información y uso de los recursos informáticos a toda la comunidad hospitalaria. Con el apoyo del área de talento humano se continua diligenciando el formato de confidencialidad cada vez que ingresa un nuevo funcionario. Con respecto al PETI, se realizó en el mes de enero de 2025 la actualizacion. | J48: 3 | K48: Deficiencia de control (diseño o ejecución) | L48: Se verificó por control interno que en el perido eneo a noviembre de 2025 a través del área de comunicaciones se socializó la politica de seguridad de la información y el uso de los recursos informáticos a todos los funcionarios del hospital, a través de las carteleras institucionales y el correo y en la inducción realizada a los funcionarios que ingresaron de primera vez. Con el apoyo del área de talento humano se continúa diligenciando el formato de confidencialidad cada vez que ingresa un nuevo funcionario. En el mes de septiembre de 2025 se llevo a cabo la feria de la excelencia en donde el área de sistemas reforzo a los funcionarios del hospital la importancia del cumplimiento de la politica y manual de seguridad de la informacion y uso de los recursos informaticos y su propuesta para la comunidad hospitalaria obtuvo el segundo lugar. | M48: Desde el inicico de la vigencia y hasta el seguimiento a noviembre de 2025 el área de sistemas, participo en la induccion y reinduccion realizada a través de la plataforma moodle propuesta por el área de talento humano en donde se socializó la politica de seguridad de la información, la politica de tratamiento y protección de datos, acuerdo de confidencialidad, manual de seguridad de la información, PETI, tips de seguridad y procedimientos. Con el apoyo del área de comunicaciones durante el periodo enero a noviembre de 2025, se han diseñado y socializado piezas graficas y videos sobre tips de seguridad en el uso de la información. Con el apoyo del área de talento humano se continúa diligenciando el acuerdo de confidencialidad cada vez que ingresa un nuevo funcionario. Se acutalizó el PETI y se conto con el acompañamiento y asesoria de una empresa experta en donde se establecieron 10 proyectos macros a ejecutar entre el 2025 al 2028, este plan fue adoptado bajo la resolucion 059 de enero de 2025.
G49: 2 | H49: Ante el Comité de control interno se presentó el desarrollo y cumplimiento de los objetivos de la "Politica de tratamiento y proteccion de datos personales", cuyo objetivo es recolectar, almacenar, administrar y proteger los datos personales que reciba de las personas que asisten al hospital.
G50: 3 | H50: Ante el Comité de Control Interno se verificó que los contratos tienen una cláusula de acuerdo de confidencialidad el funcionario que ingresa a laborar o el contratista se compromete al acuerdo de confidencialidad de la información.
G51: 4
G52: 5
G53: 6
G54: 7
G55: 8
B56: =+LEFT(C56,3) -> 1.4 | C56: 1.4 La evaluación de las acciones transversales de integridad, mediante el monitoreo permanente de los riesgos de corrupción. | D56: Dimension Talento Humano Politica de Integridad | E56: Se realizó el seguimiento a los controles de los riesgos sicof y Sarlaf identificados en la matriz de riesgos, conforme a lo establecido en la circular 005-5 y 004-5 de la supersalud. En el periodo enero-a junio y de julio a noviembre de 2025 con relación a las vinculaciones durante este periodo se realizaron los respectivos controles con relación a los riesgos de sicof y Sarlaft, conforme a lo establecido en la circular 005-5 de la supersalud, con el seguimiento y observancia del oficial de cumplimiento. El proceso de Talento Humano tiene identificado los riesgos y al seguimiento se observa que no hubo materialización de ningún riesgo por cuanto sus controloes han demostrado ser eficaces. | F56: 3 | G56: 1 | H56: Ante el Comite de coordinación de Control Interno se establececió que los líderes de proceso, realizaron el monitoreo permanente a los riesgos a través de la formulación y cumplimiento a los planes de acción que permiten mejorar controles y manejar los riesgos identificados, de manera que no afecten el cumplimiento de las metas y la no materialización del riesgo. | I56: El proceso de Talento Humano cuenta con riesgos y sus controles, a los cuales se les realizò seguimiento en el periodo comprendido entre enero a junio y de julioa noviembre de 2025, en donde se actualizó el Procedimiento Gestión del Riesgo, para incluir los riesgos clinicos, individuales, sociales y los riesgos fiscales, conforme a las metodologias AMFE y la Versión 6 del DAFP. | J56: 3 | K56: Mantenimiento del control | L56: Durante el seguimiento y hasta noviembre de 2025, se realizó el seguimiento por Control interno a los riesgos identificados en el proceso de Gestión de Talento Humano, se evidenció que durante este periodo no se materializó ningún riesgo inherente a este proceso y al seguimiento del cumplimiento de los controles se evidenció que se revisan y se tiene un control sobre ellos. En conclusión por control interno se resalta que los riesgos identificados en el proceso de Talento Humano han sido monitoreados de manera regular por parte del líder y los funcionarios que integran el proceso, cumpliendo con la observancia de los controles para evitar la materialización del riesgo. | M56: Durante el periodo enero a diciembre de la vigencia 2025, el proceso de Talento Humano tiene identificado los riesgos y al seguimiento se observa que no hubo materialización de ningún riesgo por cuanto sus controles han demostrado ser eficaces.El procedimiento Gestión del Riesgp fue actualizado mediante Acuerdo 017 de agosto 25 de 2025.
G57: 2
G58: 3
G59: 4
G60: 5
...

Sheet Evaluación de riesgos
C10: EVALUACIÓN DE RIESGOS
C11: Este componente hace referencia al ejercicio efectuado bajo el liderazgo del equipo directivo y de todos los servidores de la entidad, y permite identificar, evaluar y gestionar eventos potenciales, tanto internos como externos, que puedan afectar el logro de los objetivos institucionales. La condición para la evaluación de riesgos es el establecimiento de objetivos, vinculados a varios niveles de la entidad, lo que implica que la Alta Dirección define objetivos y los agrupa en categorías en todos los niveles de la entidad, con el fin de evaluarlos
B13: ID | C13: Lineamiento 6: Definición de objetivos con suficiente claridad para identificar y evaluar los riesgos relacionados: i)Estratégicos; ii)Operativos; iii)Legales y Presupuestales; iv)De Información Financiera y no Financiera. | D13: DIMENSIÓN O POLÍTICA DEL MIPG ASOCIADA AL REQUERIMIENTO | E13: Explicación de cómo la Entidad evidencia que está dando respuesta al requerimiento Referencia a Procesos, Manuales/Políticas de Operación/Procedimientos/Instructivos u otros desarrollos que den cuente de su aplicación | F13: Presente (1/2/3) | G13: EVIDENCIA DEL CONTROL | J13: Funcionando (1/2/3) | K13: Evaluación
G14: No. | H14: Referencia a Análisis y verificaciones en el marco del Comité Institucional de Coordinación de Control Interno | I14: Observaciones de la evaluacion independiente (tener encuenta papel de líneas de defensa)
B16: =+LEFT(C16,3) -> 6.1 | C16: 6.1 La Entidad cuenta con mecanismos para vincular o relacionar el plan estratégico con los objetivos estratégicos y estos a su vez con los objetivos operativos. | D16: Dimension de Direccionamiento Estratetegico y Planeacion. Politica de Planeacion Institucional | E16: Durante la vigencia y hasta noviembre de 2025 se presentaron ante el comité de gerencia, comité de gestión y desempeño y en junta directiva los avances al Plan de Desarrollo de la presente vigencia fiscal. De igual forma se han presentado los diferentes informes de producción e indicadores de avance al cumplimiento de las metas del PDI. Igualmente se formulo y aprobo el nuevo Plan de Desarrollo Institucional en el cual se presentaron las líneas estratégicas del Plan de Desarrollo Institucional 2024 - 2028 denominado “Comprometidos con la excelencia en salud”: LÍNEA ESTRATÉGICA 1. SALUD MENTAL CON EXCELENCIA LÍNEA ESTRATÉGICA 2. MEJORAMIENTO INSTITUCIONAL LÍNEA ESTRATÉGICA 3. FORTALECIMIENTO Y CAPACIDADES INSTITUCIONALES LÍNEA ESTRATÉGICA 4. DOCENCIA E INVESTIGACIÓN LÍNEA ESTRATÉGICA 5. SOSTENIBILIDAD Y RENTABILIDAD FINANCIERA | F16: 3 | G16: 1 | H16: En el marco del comité de control interno se presento el plan de desarrollo 2024-2028 denominado Comprometidos con la Excelencia en Salud. | I16: Durante el periodo enero-noviembre se ha evidenciado la debida planificación del POA de la vigencia 2025, esto acorde a los objetivos institucionales y a las lineas estratégicas del plan de desarrollo 2024-2028, se han realizado los respectivos seguimientos y fueron presentados en comité de gerencia y junta directiva. Se evidencian los siguientes resultados a noviembre de 2025: un cumplimiento del 92% respecto a la meta proyectada reflejado en cada una de las líneas estrategicas como se detalla a continuación: Linea estrategica de salud mental con excelencia presenta un cumplimiento del 93%, Mejoramiento Institucional 92%, Fortalecimiento de las capacidades institucionales 90%, Docencia servicio e Investigación 94% y sostenibilidad y rentabilidad financiera el 91% | J16: 3 | K16: =+IF(OR(ISBLANK(F16),ISBLANK(J16)),"",IF(OR(AND(F16=1,J16=1),AND(F16=1,J16=2),AND(F16=1,J16=3)),"Deficiencia de control mayor (diseño y ejecución)",IF(OR(AND(F16=2,J16=2),AND(F16=3,J16=1),AND(F16=3,J16=2),AND(F16=2,J16=1)),"Deficiencia de control (diseño o ejecución)",IF(AND(F16=2,J16=3),"Oportunidad de mejora","Mantenimiento del control")))) -> Mantenimiento del control | L16: =+IF(K16="",75,IF(K16="Deficiencia de control mayor (diseño y ejecución)",80,IF(K16="Deficiencia de control (diseño o ejecución)",100,IF(K16="Oportunidad de mejora",120,140)))) -> 140 | M16: 1.7896 | N16: =+L16+M16 -> 141.7896
G17: 2 | H17: En el Comité de Control interno se revisaran los indicadores de las metas del Plan de Desarrollo Institucional.
G18: 3
G19: 4
G20: 5
G21: 6
G22: 7
G23: 8
B24: =+LEFT(C24,3) -> 6.2 | C24: 6.2 Los objetivos de los procesos, programas o proyectos (según aplique) que están definidos, son específicos, medibles, alcanzables, relevantes, delimitados en el tiempo. | D24: Dimension de Gestion con Valores para Resultado Politica de Fortalecimiento Organizacional y Simplificaciòn de Procesos | E24: Durante el periodo enero- noviembre de 2025 se revisaron los indicadores de los diferentes procesos institucionales y su articulación con los objetivos estratégicos y de calidad. El Hospital cuenta con un modelo de operación por procesos certificado con la NTC ISO 9001:2015 y cuenta con las caracterizaciones de los procesos donde se incluye el objetivo del proceso, su cadena de valor y los indicadores de gestión que se alinean con los objetivos estratégicos y de calidad. | F24: 3 | G24: 1 | H24: Durante el periodo enero-noviembre de 2025, se adelantó la revisión de la plataforma estratégica y se revisó la ejecución del plan de desarrollo 2024-2028 en el Comite de gerencia. | I24: Al seguimiento del período enero a diciembre de 2025, se verificó que el hospital tiene establecida una metodología de mejoramiento institucional, en la que las políticas, programas, procesos, procedimientos, guías y protocolos tienen definidos objetivos claros, medibles, alcanzables y delimitados en el tiempo. Así mismo se identifica que en el Plan de Desarrollo Institucional 2024-2028 COMPROMETIDOS CON LA EXCELENCIA EN SALUD, se formularon 5 líneas estratégicas que tambien cuentan con sus respectivos objetivos. El cumplimiento del avance de estos objetivos son presentados en el Comité de gerencia y Junta directiva para la toma de decisiones. | J24: 3 | K24: =+IF(OR(ISBLANK(F24),ISBLANK(J24)),"",IF(OR(AND(F24=1,J24=1),AND(F24=1,J24=2),AND(F24=1,J24=3)),"Deficiencia de control mayor (diseño y ejecución)",IF(OR(AND(F24=2,J24=2),AND(F24=3,J24=1),AND(F24=3,J24=2),AND(F24=2,J24=1)),"Deficiencia de control (diseño o ejecución)",IF(AND(F24=2,J24=3),"Oportunidad de mejora","Mantenimiento del control")))) -> Mantenimiento del control | L24: =+IF(K24="",75,IF(K24="Deficiencia de control mayor (diseño y ejecución)",80,IF(K24="Deficiencia de control (diseño o ejecución)",100,IF(K24="Oportunidad de mejora",120,140)))) -> 140 | M24: 1.8896 | N24: =+L24+M24 -> 141.8896
G25: 2 | H25: En los 3 trimestres de la vigencia 2025 se ha realizado el seguimiento a los planes de mejoramiento de acreditación y sistema integrado de gestión, en donde se recibió al ente acreditador ICONTEC.
G26: 3 | H26: La línea estratégica verificó que se realizará el seguimiento a los avances de los planes de mejoramiento para la acreditación, sistemas integrados de gestión y el cumplimiento de los mismos.
G27: 4
G28: 5
G29: 6
G30: 7
G31: 8
B32: =+LEFT(C32,3) -> 6.3 | C32: 6.3 La Alta Dirección evalúa periódicamente los objetivos establecidos para asegurar que estos continúan siendo consistentes y apropiados para la Entidad. | D32: Dimension de Direccionamiento Estratetegico y Planeacion. Politica de Planeacion Institucional Dimension Control Interno Linea Estrategica | E32: Durante el periodo enero-noviembre de 2025, se realizó seguimiento al cumplimiento de las metas establecidas en el Plan de desarrollo y el avance del Plan Operativo para la vigencia 2025, asi mismo el seguimietno de los indicadores establecidos en os diferentes programas y subprogramas. | F32: 3 | G32: 1 | H32: La línea estratégica en coordinación con la primera y segunda línea de defensa, hicieron seguimiento al POA y verificaron que se estuviesen cumpliendo con los planes de mejoramiento. | I32: La oficina asesora de planeacion ha venido desarrollando y realizando seguimientos al cumplimiento de la planeación estratégica del hospital, en donde se puede destacar que mediante Acuerdo 003 del 17 de febrero de 2025 la Junta directiva del hospital aprobo el POA Institucional para la vigencia 2025, mediante Acuerdo No. 007 de abril 21 de 2025 y se realizó un ajuste al POA y POAI en consideración a un ajuste presupuestal. De igual forma se presentaron los informes de avances en el POA institcional de manera trimestral ante e comité de gerencia y junta directiva, para lo cual se obtienen los siguientes avances: un cumplimiento del 92% respecto a la meta proyectada reflejado en cada una de las líneas estrategicas como se detalla a continuación: Linea estrategica de salud mental con excelencia presenta un cumplimiento del 93%, Mejoramiento Institucional 92%, Fortalecimiento de las capacidades institucionales 90%, Docencia servicio e Investigación 94% y sostenibilidad y rentabilidad financiera el 91%. A 31 de dieimbre que termina el periodo Planeación entregará en la primera semana de enero de 2026 el indicador final de cumplimiento. | J32: 3 | K32: =+IF(OR(ISBLANK(F32),ISBLANK(J32)),"",IF(OR(AND(F32=1,J32=1),AND(F32=1,J32=2),AND(F32=1,J32=3)),"Deficiencia de control mayor (diseño y ejecución)",IF(OR(AND(F32=2,J32=2),AND(F32=3,J32=1),AND(F32=3,J32=2),AND(F32=2,J32=1)),"Deficiencia de control (diseño o ejecución)",IF(AND(F32=2,J32=3),"Oportunidad de mejora","Mantenimiento del control")))) -> Mantenimiento del control | L32: =+IF(K32="",75,IF(K32="Deficiencia de control mayor (diseño y ejecución)",80,IF(K32="Deficiencia de control (diseño o ejecución)",100,IF(K32="Oportunidad de mejora",120,140)))) -> 140 | M32: 1.9754 | N32: =+L32+M32 -> 141.9754
G33: 2 | H33: Se realizó seguimiento a los controles de la matríz de riesgos identificados y éste fue presentado ante el Comité de control interno, en donde se evaluó la efectividad de los mismos.
G34: 3
G35: 4
G36: 5
G37: 6
G38: 7
G39: 8
C40: Lineamiento 7: Identificación y análisis de riesgos (Analiza factores internos y externos; Implica a los niveles apropiados de la dirección; Determina cómo responder a los riesgos; Determina la importancia de los riesgos). | D40: DIMENSIÓN O POLÍTICA DEL MIPG ASOCIADA AL REQUERIMIENTO | E40: Explicación de cómo la Entidad evidencia que está dando respuesta al requerimiento Referencia a Procesos, Manuales/Políticas de Operación/Procedimientos/Instructivos u otros desarrollos que den cuente de su aplicación | F40: Presente (1/2/3) | G40: EVIDENCIA DEL CONTROL | J40: Funcionando (1/2/3) | K40: Evaluación
G41: No. | H41: Referencia a Análisis y verificaciones en el marco del Comité Institucional de Coordinación de Control Interno | I41: Observaciones de la evaluacion independiente (tener encuenta papel de líneas de defensa)
B43: =+LEFT(C43,3) -> 7.1 | C43: 7.1 Teniendo en cuenta la estructura de la política de Administración del Riesgo, su alcance define lineamientos para toda la entidad, incluyendo regionales, áreas tercerizadas u otras instancias que afectan la prestación del servicio. | D43: Dimension de Direccionamiento Estratetegico y Planeacion. Politica de Planeacion Institucional | E43: A la politica gestión del riesgo le fue revisado el indicador de cumplimiento, politica que da alcance a todos los procesos e impacta los riesgos identificados en cada uno de ellos. Se realizó la audiencia pública en donde fue dado a conocer a la ciudadanía la gestión del riesgo de la entidad | F43: 3 | G43: 1 | I43: La politica de la gestión del riesgo en la entidad tiene definido los lineamientos tendientes a desarrollar en cada uno de los procesos que tienen identificados los riesgos con sus controles, la politica es igualmente trazable a todos los procesos del HDPUV. Igualmente se observó por control interno que los líderes de proceso trabajan de manera regular en la revisión de los controles de los riesgos, evitando un bajo indicador en la materialización. La junta directiva aprobó ´por acuerdo el ajuste al procedimiento gestión del riesgo en donde se incluyeron los riesgos clinicos, individuales y sociales asi como los riesgos fiscales, estos riesgos deben ser identificados conforme a la metodologia AMFE y DAFP. | J43: 3 | K43: =+IF(OR(ISBLANK(F43),ISBLANK(J43)),"",IF(OR(AND(F43=1,J43=1),AND(F43=1,J43=2),AND(F43=1,J43=3)),"Deficiencia de control mayor (diseño y ejecución)",IF(OR(AND(F43=2,J43=2),AND(F43=3,J43=1),AND(F43=3,J43=2),AND(F43=2,J43=1)),"Deficiencia de control (diseño o ejecución)",IF(AND(F43=2,J43=3),"Oportunidad de mejora","Mantenimiento del control")))) -> Mantenimiento del control | L43: =+IF(K43="",75,IF(K43="Deficiencia de control mayor (diseño y ejecución)",80,IF(K43="Deficiencia de control (diseño o ejecución)",100,IF(K43="Oportunidad de mejora",120,140)))) -> 140 | M43: 2.0896 | N43: =+L43+M43 -> 142.0896
G44: 2 | H44: La linea estratégica imparte directrices tendientes al cumplimiento de los objetivos de la politica gestión del riesgo de la entidad y verifica su aplicación cada vez que se realiza el seguimiento a los riesgos
G45: 3
G46: 4
G47: 5
G48: 6
G49: 7
G50: 8
B51: =+LEFT(C51,3) -> 7.2 | C51: 7.2 La Oficina de Planeación, Gerencia de Riesgos (donde existan), como 2a línea de defensa, consolidan información clave frente a la gestión del riesgo. | D51: Dimension Control Interno Lineas de Defensa | E51: La segunda línea de defensa imparte directrices tendientes a la gestón del riesgo, desde ahí se realiza el acompañamiento por el asesor de control interno a todos los procesos en la identificación de riesgos y sus controles. | F51: 3 | G51: 1 | H51: La línea estratégica imparte directrices tendientes a la gestión del riesgo en el HDPUV, realizando seguimiento en los comités de gerencia y de control interno. | I51: La segunda linea de defensa liderada por planeación ha consolidado la información clave para la gestión del riesgo el Hospital, realizando reuniones periódicas en los comités de gerencia y de gestión y desempeño en donde se impartieron las directrices tendientes a la evaluación y el cumplimiento de los controles de los riesgos para evitar su materialización. El componente gestión del riesgo en la evaluación del Furag en la vigencia 2025 obtuvo un desempeño del 100% en la entidad. | J51: 3 | K51: =+IF(OR(ISBLANK(F51),ISBLANK(J51)),"",IF(OR(AND(F51=1,J51=1),AND(F51=1,J51=2),AND(F51=1,J51=3)),"Deficiencia de control mayor (diseño y ejecución)",IF(OR(AND(F51=2,J51=2),AND(F51=3,J51=1),AND(F51=3,J51=2),AND(F51=2,J51=1)),"Deficiencia de control (diseño o ejecución)",IF(AND(F51=2,J51=3),"Oportunidad de mejora","Mantenimiento del control")))) -> Mantenimiento del control | L51: =+IF(K51="",75,IF(K51="Deficiencia de control mayor (diseño y ejecución)",80,IF(K51="Deficiencia de control (diseño o ejecución)",100,IF(K51="Oportunidad de mejora",120,140)))) -> 140 | M51: 2.1456 | N51: =+L51+M51 -> 142.1456
G52: 2 | H52: La segunda línea de defensa informa de manera periodica al comité de gerecia y al comitè de control interno, el seguimiento que realizan los lideres de proceso a cada uno de los riesgos, revisando el cumplimiento de los controles para evitar su materialización.
...

Sheet Actividades de control
C15: ACTIVIDADES DE CONTROL
C16: La entidad define y desarrolla actividades de control que contribuyen a la mitigación de los riesgos hasta niveles aceptables para la consecución de los objetivos estratégicos y de proceso. Implementa políticas de operación mediante procedimientos u otros mecanismos que den cuenta de su aplicación en el día a día de las operaciones.
B18: ID | C18: Lineamiento 10: Diseño y desarrollo de actividades de control (Integra el desarrollo de controles con la evaluación de riesgos; tiene en cuenta a qué nivel se aplican las actividades; facilita la segregación de funciones). | D18: DIMENSIÓN O POLÍTICA DEL MIPG ASOCIADA AL REQUERIMIENTO | E18: Explicación de cómo la Entidad evidencia que está dando respuesta al requerimiento Referencia a Procesos, Manuales/Políticas de Operación/Procedimientos/Instructivos u otros desarrollos que den cuente de su aplicación | F18: Presente (1/2/3) | G18: EVIDENCIA DEL CONTROL | J18: Funcionando (1/2/3) | K18: Evaluación
G19: No. | H19: Referencia a Análisis y verificaciones en el marco del Comité Institucional de Coordinación de Control Interno | I19: Observaciones de la evaluacion independiente (tener encuenta papel de líneas de defensa)
